Workbook
Name Segment_Années: #N/A
Name Segment_Années1: #N/A
Name Segment_Années2: #N/A
Name Segment_Choc: #N/A
Name Segment_Clusters: #N/A

Sheet Recap
A1: methodologie : Sont retenus les départements dont le poids de vulnérabilité est supérieur à 50 %, représentés en vert. | C1: Analyse des données des Cluster 2027 | W1: Analyse des donnéés secondaire de 2023 à 2026
W2: Choc conflit | AA2: Choc Epidemie | AE2: Choc catastrophe naturel
Q3: xx départements, représentés en vert(poids de vulnerabilité >50%), sont inclus dans le périmètre de l’analyse des données secondaire
C4: Departements | D4: Nombre des Chocs | E4: Moyenne de l'intensité | F4: Nombre des Clusters | G4: Inducateur Nombre de choc | H4: Inducateur Intensité | I4: Inducateur Nombre de clusters | J4: Poids de vulnerabilité global par departement | W4: Années | X4: (Plusieurs éléments) | AA4: Années | AB4: (Plusieurs éléments) | AE4: Années | AF4: (Plusieurs éléments)
C5: Abdi | D5: 2 | E5: 3 | F5: 2 | G5: =IF(D5>0,1,0) -> 1 | H5: =IF(E5>=1,1,0) -> 1 | I5: =IF(F5>3,1,0) -> 0 | J5: =(25%*G5)+(25%*H5)+(50%*I5) -> 0.5 | AI5: Indice sécheresse (données secondaires 2024–2026) — détail et paramètres dans la feuille « Indice sécheresse »
C6: Aboudeia | D6: 2 | E6: 3.6666667 | F6: 2 | G6: =IF(D6>0,1,0) -> 1 | H6: =IF(E6>=3,1,0) -> 1 | I6: =IF(F6>3,1,0) -> 0 | J6: =(25%*G6)+(25%*H6)+(50%*I6) -> 0.5 | Q6: Departements | R6: Poids de vulnerabilité Global par departement (%) | S6: Indicateur de vulnerabilité Choc Conflit (%) | T6: Indicateur de vulnerabilité Choc Epidemie (%) | U6: Indicateur de vulnerabilité Choc Catastrophe naturel (%) | W6: Departements | X6: Max. de Priorisationzone | AA6: Departements | AB6: Max. de Priorisationzone | AE6: Province | AF6: Max. de Priorisationzone | AI6: Indice sécheresse (0–1) | AJ6: Catégorie sécheresse | AK6: Indicateur_Sécheresse | AL6: Rang sécheresse
C7: Abtouyour | D7: 3 | E7: 2.125 | F7: 4 | G7: =IF(D7>0,1,0) -> 1 | H7: =IF(E7>=3,1,0) -> 0 | I7: =IF(F7>3,1,0) -> 1 | J7: =(25%*G7)+(25%*H7)+(50%*I7) -> 0.75 | Q7: Abdi | R7: =AVERAGE(Tableau9[[#This Row],[Indicateur de vulnerabilité Choc Conflit (%)]:[Indicateur de vulnerabilité Choc Catastrophe naturel (%)]]) -> 0.56666667 | S7: 0.4 | T7: 1 | U7: 0.3 | W7: Abdi | X7: 0.4 | AA7: Abdi | AB7: 1 | AE7: Abdi | AF7: 0.3 | AI7: =IFERROR(INDEX('Indice sécheresse'!$AC$6:$AC$75,MATCH($Q7,'Indice sécheresse'!$E$6:$E$75,0)),"") -> 0.54047492 | AJ7: =IFERROR(INDEX('Indice sécheresse'!$AE$6:$AE$75,MATCH($Q7,'Indice sécheresse'!$E$6:$E$75,0)),"") -> Élevé | AK7: =IFERROR(INDEX('Indice sécheresse'!$AF$6:$AF$75,MATCH($Q7,'Indice sécheresse'!$E$6:$E$75,0)),"") -> 1 | AL7: =IFERROR(INDEX('Indice sécheresse'!$AD$6:$AD$75,MATCH($Q7,'Indice sécheresse'!$E$6:$E$75,0)),"") -> 25
C8: Amdjarass | D8: 2 | E8: 2.6666667 | F8: 3 | G8: =IF(D8>0,1,0) -> 1 | H8: =IF(E8>=3,1,0) -> 0 | I8: =IF(F8>3,1,0) -> 0 | J8: =(25%*G8)+(25%*H8)+(50%*I8) -> 0.25 | Q8: Aboudeia | R8: =AVERAGE(Tableau9[[#This Row],[Indicateur de vulnerabilité Choc Conflit (%)]:[Indicateur de vulnerabilité Choc Catastrophe naturel (%)]]) -> 0.8 | S8: 0.4 | T8: 1 | U8: 1 | W8: Aboudeia | X8: 0.4 | AA8: Aboudeia | AB8: 1 | AE8: Aboudeia | AF8: 1 | AI8: =IFERROR(INDEX('Indice sécheresse'!$AC$6:$AC$75,MATCH($Q8,'Indice sécheresse'!$E$6:$E$75,0)),"") -> 0.44221947 | AJ8: =IFERROR(INDEX('Indice sécheresse'!$AE$6:$AE$75,MATCH($Q8,'Indice sécheresse'!$E$6:$E$75,0)),"") -> Élevé | AK8: =IFERROR(INDEX('Indice sécheresse'!$AF$6:$AF$75,MATCH($Q8,'Indice sécheresse'!$E$6:$E$75,0)),"") -> 0 | AL8: =IFERROR(INDEX('Indice sécheresse'!$AD$6:$AD$75,MATCH($Q8,'Indice sécheresse'!$E$6:$E$75,0)),"") -> 41
C9: Assoungha | D9: 3 | E9: 2.8888889 | F9: 7 | G9: =IF(D9>0,1,0) -> 1 | H9: =IF(E9>=3,1,0) -> 0 | I9: =IF(F9>3,1,0) -> 1 | J9: =(25%*G9)+(25%*H9)+(50%*I9) -> 0.75 | Q9: Abtouyour | R9: =AVERAGE(Tableau9[[#This Row],[Indicateur de vulnerabilité Choc Conflit (%)]:[Indicateur de vulnerabilité Choc Catastrophe naturel (%)]]) -> 0.33333333 | S9: 0 | T9: 0.5 | U9: 0.5 | W9: Abtouyour | X9: 0 | AA9: Abtouyour | AB9: 0.5 | AE9: Abtouyour | AF9: 0.5 | AI9: =IFERROR(INDEX('Indice sécheresse'!$AC$6:$AC$75,MATCH($Q9,'Indice sécheresse'!$E$6:$E$75,0)),"") -> 0.33662738 | AJ9: =IFERROR(INDEX('Indice sécheresse'!$AE$6:$AE$75,MATCH($Q9,'Indice sécheresse'!$E$6:$E$75,0)),"") -> Modéré | AK9: =IFERROR(INDEX('Indice sécheresse'!$AF$6:$AF$75,MATCH($Q9,'Indice sécheresse'!$E$6:$E$75,0)),"") -> 0 | AL9: =IFERROR(INDEX('Indice sécheresse'!$AD$6:$AD$75,MATCH($Q9,'Indice sécheresse'!$E$6:$E$75,0)),"") -> 54
C10: Baguirmi | D10: 3 | E10: 2.6666667 | F10: 3 | G10: =IF(D10>0,1,0) -> 1 | H10: =IF(E10>=3,1,0) -> 0 | I10: =IF(F10>3,1,0) -> 0 | J10: =(25%*G10)+(25%*H10)+(50%*I10) -> 0.25 | Q10: Amdjarass | R10: =AVERAGE(Tableau9[[#This Row],[Indicateur de vulnerabilité Choc Conflit (%)]:[Indicateur de vulnerabilité Choc Catastrophe naturel (%)]]) -> 0.58333333 | S10: 0.8 | T10: 0.5 | U10: 0.45 | W10: Amdjarass | X10: 0.8 | AA10: Amdjarass | AB10: 0.5 | AE10: Amdjarass | AF10: 0.45 | AI10: =IFERROR(INDEX('Indice sécheresse'!$AC$6:$AC$75,MATCH($Q10,'Indice sécheresse'!$E$6:$E$75,0)),"") -> 0.28000149 | AJ10: =IFERROR(INDEX('Indice sécheresse'!$AE$6:$AE$75,MATCH($Q10,'Indice sécheresse'!$E$6:$E$75,0)),"") -> Modéré | AK10: =IFERROR(INDEX('Indice sécheresse'!$AF$6:$AF$75,MATCH($Q10,'Indice sécheresse'!$E$6:$E$75,0)),"") -> 0 | AL10: =IFERROR(INDEX('Indice sécheresse'!$AD$6:$AD$75,MATCH($Q10,'Indice sécheresse'!$E$6:$E$75,0)),"") -> 57
C11: Bahar Signaka | D11: 1 | E11: 3 | F11: 2 | G11: =IF(D11>0,1,0) -> 1 | H11: =IF(E11>=3,1,0) -> 1 | I11: =IF(F11>3,1,0) -> 0 | J11: =(25%*G11)+(25%*H11)+(50%*I11) -> 0.5 | Q11: Assoungha | R11: =AVERAGE(Tableau9[[#This Row],[Indicateur de vulnerabilité Choc Conflit (%)]:[Indicateur de vulnerabilité Choc Catastrophe naturel (%)]]) -> 0.66666667 | S11: 0.8 | T11: 1 | U11: 0.2 | W11: Assoungha | X11: 0.8 | AA11: Assoungha | AB11: 1 | AE11: Assoungha | AF11: 0.2 | AI11: =IFERROR(INDEX('Indice sécheresse'!$AC$6:$AC$75,MATCH($Q11,'Indice sécheresse'!$E$6:$E$75,0)),"") -> 0.61910843 | AJ11: =IFERROR(INDEX('Indice sécheresse'!$AE$6:$AE$75,MATCH($Q11,'Indice sécheresse'!$E$6:$E$75,0)),"") -> Très élevé | AK11: =IFERROR(INDEX('Indice sécheresse'!$AF$6:$AF$75,MATCH($Q11,'Indice sécheresse'!$E$6:$E$75,0)),"") -> 1 | AL11: =IFERROR(INDEX('Indice sécheresse'!$AD$6:$AD$75,MATCH($Q11,'Indice sécheresse'!$E$6:$E$75,0)),"") -> 18
C12: Bahr Azoum | D12: 3 | E12: 2.4444444 | F12: 3 | G12: =IF(D12>0,1,0) -> 1 | H12: =IF(E12>=3,1,0) -> 0 | I12: =IF(F12>3,1,0) -> 0 | J12: =(25%*G12)+(25%*H12)+(50%*I12) -> 0.25 | Q12: Baguirmi | R12: =AVERAGE(Tableau9[[#This Row],[Indicateur de vulnerabilité Choc Conflit (%)]:[Indicateur de vulnerabilité Choc Catastrophe naturel (%)]]) -> 0.33333333 | S12: 0 | T12: 1 | U12: 0 | W12: Baguirmi | X12: 0 | AA12: Baguirmi | AB12: 1 | AE12: Baguirmi | AF12: 0 | AI12: =IFERROR(INDEX('Indice sécheresse'!$AC$6:$AC$75,MATCH($Q12,'Indice sécheresse'!$E$6:$E$75,0)),"") -> 0.30329807 | AJ12: =IFERROR(INDEX('Indice sécheresse'!$AE$6:$AE$75,MATCH($Q12,'Indice sécheresse'!$E$6:$E$75,0)),"") -> Modéré | AK12: =IFERROR(INDEX('Indice sécheresse'!$AF$6:$AF$75,MATCH($Q12,'Indice sécheresse'!$E$6:$E$75,0)),"") -> 0 | AL12: =IFERROR(INDEX('Indice sécheresse'!$AD$6:$AD$75,MATCH($Q12,'Indice sécheresse'!$E$6:$E$75,0)),"") -> 56
C13: Bahr-Koh | D13: 3 | E13: 2.4615385 | F13: 4 | G13: =IF(D13>0,1,0) -> 1 | H13: =IF(E13>=3,1,0) -> 0 | I13: =IF(F13>3,1,0) -> 1 | J13: =(25%*G13)+(25%*H13)+(50%*I13) -> 0.75 | Q13: Bahar Signaka | R13: =AVERAGE(Tableau9[[#This Row],[Indicateur de vulnerabilité Choc Conflit (%)]:[Indicateur de vulnerabilité Choc Catastrophe naturel (%)]]) -> 0.31666667 | S13: 0 | T13: 0.5 | U13: 0.45 | W13: Bahar Signaka | X13: 0 | AA13: Bahar Signaka | AB13: 0.5 | AE13: Bahar Signaka | AF13: 0.45 | AI13: =IFERROR(INDEX('Indice sécheresse'!$AC$6:$AC$75,MATCH($Q13,'Indice sécheresse'!$E$6:$E$75,0)),"") -> 0.31966362 | AJ13: =IFERROR(INDEX('Indice sécheresse'!$AE$6:$AE$75,MATCH($Q13,'Indice sécheresse'!$E$6:$E$75,0)),"") -> Modéré | AK13: =IFERROR(INDEX('Indice sécheresse'!$AF$6:$AF$75,MATCH($Q13,'Indice sécheresse'!$E$6:$E$75,0)),"") -> 0 | AL13: =IFERROR(INDEX('Indice sécheresse'!$AD$6:$AD$75,MATCH($Q13,'Indice sécheresse'!$E$6:$E$75,0)),"") -> 55
C14: Barh Sara | D14: 2 | E14: 2.4285714 | F14: 6 | G14: =IF(D14>0,1,0) -> 1 | H14: =IF(E14>=3,1,0) -> 0 | I14: =IF(F14>3,1,0) -> 1 | J14: =(25%*G14)+(25%*H14)+(50%*I14) -> 0.75 | Q14: Bahr Azoum | R14: =AVERAGE(Tableau9[[#This Row],[Indicateur de vulnerabilité Choc Conflit (%)]:[Indicateur de vulnerabilité Choc Catastrophe naturel (%)]]) -> 0.63333333 | S14: 0.4 | T14: 0.5 | U14: 1 | W14: Bahr Azoum | X14: 0.4 | AA14: Bahr Azoum | AB14: 0.5 | AE14: Bahr Azoum | AF14: 1 | AI14: =IFERROR(INDEX('Indice sécheresse'!$AC$6:$AC$75,MATCH($Q14,'Indice sécheresse'!$E$6:$E$75,0)),"") -> 0.3837323 | AJ14: =IFERROR(INDEX('Indice sécheresse'!$AE$6:$AE$75,MATCH($Q14,'Indice sécheresse'!$E$6:$E$75,0)),"") -> Modéré | AK14: =IFERROR(INDEX('Indice sécheresse'!$AF$6:$AF$75,MATCH($Q14,'Indice sécheresse'!$E$6:$E$75,0)),"") -> 0 | AL14: =IFERROR(INDEX('Indice sécheresse'!$AD$6:$AD$75,MATCH($Q14,'Indice sécheresse'!$E$6:$E$75,0)),"") -> 46
C15: Barh-El-Gazel Nord | D15: 2 | E15: 2.3333333 | F15: 3 | G15: =IF(D15>0,1,0) -> 1 | H15: =IF(E15>=3,1,0) -> 0 | I15: =IF(F15>3,1,0) -> 0 | J15: =(25%*G15)+(25%*H15)+(50%*I15) -> 0.25 | Q15: Bahr Koh | R15: =AVERAGE(Tableau9[[#This Row],[Indicateur de vulnerabilité Choc Conflit (%)]:[Indicateur de vulnerabilité Choc Catastrophe naturel (%)]]) -> 0.55 | S15: 0.4 | T15: 0.5 | U15: 0.75 | W15: Bahr Koh | X15: 0.4 | AA15: Bahr Koh | AB15: 0.5 | AE15: Bahr Koh | AF15: 0.75 | AI15: =IFERROR(INDEX('Indice sécheresse'!$AC$6:$AC$75,MATCH($Q15,'Indice sécheresse'!$E$6:$E$75,0)),"") -> 0.25312534 | AJ15: =IFERROR(INDEX('Indice sécheresse'!$AE$6:$AE$75,MATCH($Q15,'Indice sécheresse'!$E$6:$E$75,0)),"") -> Modéré | AK15: =IFERROR(INDEX('Indice sécheresse'!$AF$6:$AF$75,MATCH($Q15,'Indice sécheresse'!$E$6:$E$75,0)),"") -> 0 | AL15: =IFERROR(INDEX('Indice sécheresse'!$AD$6:$AD$75,MATCH($Q15,'Indice sécheresse'!$E$6:$E$75,0)),"") -> 61
C16: Barh-El-Gazel Ouest | D16: 2 | E16: 2.2 | F16: 3 | G16: =IF(D16>0,1,0) -> 1 | H16: =IF(E16>=3,1,0) -> 0 | I16: =IF(F16>3,1,0) -> 0 | J16: =(25%*G16)+(25%*H16)+(50%*I16) -> 0.25 | Q16: Barh El Gazel Nord | R16: =AVERAGE(Tableau9[[#This Row],[Indicateur de vulnerabilité Choc Conflit (%)]:[Indicateur de vulnerabilité Choc Catastrophe naturel (%)]]) -> 0.23333333 | S16: 0 | T16: 0.5 | U16: 0.2 | W16: Barh El Gazel Nord | X16: 0 | AA16: Barh El Gazel Nord | AB16: 0.5 | AE16: Barh El Gazel Nord | AF16: 0.2 | AI16: =IFERROR(INDEX('Indice sécheresse'!$AC$6:$AC$75,MATCH($Q16,'Indice sécheresse'!$E$6:$E$75,0)),"") -> 0.7289443 | AJ16: =IFERROR(INDEX('Indice sécheresse'!$AE$6:$AE$75,MATCH($Q16,'Indice sécheresse'!$E$6:$E$75,0)),"") -> Très élevé | AK16: =IFERROR(INDEX('Indice sécheresse'!$AF$6:$AF$75,MATCH($Q16,'Indice sécheresse'!$E$6:$E$75,0)),"") -> 1 | AL16: =IFERROR(INDEX('Indice sécheresse'!$AD$6:$AD$75,MATCH($Q16,'Indice sécheresse'!$E$6:$E$75,0)),"") -> 5
C17: Barh-El-Gazel Sud | D17: 2 | E17: 2.2222222 | F17: 3 | G17: =IF(D17>0,1,0) -> 1 | H17: =IF(E17>=3,1,0) -> 0 | I17: =IF(F17>3,1,0) -> 0 | J17: =(25%*G17)+(25%*H17)+(50%*I17) -> 0.25 | Q17: Barh El Gazel Ouest | R17: =AVERAGE(Tableau9[[#This Row],[Indicateur de vulnerabilité Choc Conflit (%)]:[Indicateur de vulnerabilité Choc Catastrophe naturel (%)]]) -> 0.33333333 | S17: 0 | T17: 0.5 | U17: 0.5 | W17: Barh El Gazel Ouest | X17: 0 | AA17: Barh El Gazel Ouest | AB17: 0.5 | AE17: Barh El Gazel Ouest | AF17: 0.5 | AI17: =IFERROR(INDEX('Indice sécheresse'!$AC$6:$AC$75,MATCH($Q17,'Indice sécheresse'!$E$6:$E$75,0)),"") -> 0.53141092 | AJ17: =IFERROR(INDEX('Indice sécheresse'!$AE$6:$AE$75,MATCH($Q17,'Indice sécheresse'!$E$6:$E$75,0)),"") -> Élevé | AK17: =IFERROR(INDEX('Indice sécheresse'!$AF$6:$AF$75,MATCH($Q17,'Indice sécheresse'!$E$6:$E$75,0)),"") -> 1 | AL17: =IFERROR(INDEX('Indice sécheresse'!$AD$6:$AD$75,MATCH($Q17,'Indice sécheresse'!$E$6:$E$75,0)),"") -> 26
C18: Batha Est | D18: 3 | E18: 2.5555556 | F18: 4 | G18: =IF(D18>0,1,0) -> 1 | H18: =IF(E18>=3,1,0) -> 0 | I18: =IF(F18>3,1,0) -> 1 | J18: =(25%*G18)+(25%*H18)+(50%*I18) -> 0.75 | Q18: Barh El Gazel Sud | R18: =AVERAGE(Tableau9[[#This Row],[Indicateur de vulnerabilité Choc Conflit (%)]:[Indicateur de vulnerabilité Choc Catastrophe naturel (%)]]) -> 0.33333333 | S18: 0 | T18: 0.5 | U18: 0.5 | W18: Barh El Gazel Sud | X18: 0 | AA18: Barh El Gazel Sud | AB18: 0.5 | AE18: Barh El Gazel Sud | AF18: 0.5 | AI18: =IFERROR(INDEX('Indice sécheresse'!$AC$6:$AC$75,MATCH($Q18,'Indice sécheresse'!$E$6:$E$75,0)),"") -> 0.67189387 | AJ18: =IFERROR(INDEX('Indice sécheresse'!$AE$6:$AE$75,MATCH($Q18,'Indice sécheresse'!$E$6:$E$75,0)),"") -> Très élevé | AK18: =IFERROR(INDEX('Indice sécheresse'!$AF$6:$AF$75,MATCH($Q18,'Indice sécheresse'!$E$6:$E$75,0)),"") -> 1 | AL18: =IFERROR(INDEX('Indice sécheresse'!$AD$6:$AD$75,MATCH($Q18,'Indice sécheresse'!$E$6:$E$75,0)),"") -> 12
... C73: Wayi | D73: 3 | E73: 2.8 | F73: 4 | G73: =IF(D73>0,1,0) -> 1 | H73: =IF(E73>=3,1,0) -> 0 | I73: =IF(F73>3,1,0) -> 1 | J73: =(25%*G73)+(25%*H73)+(50%*I73) -> 0.75 | Q73: Tibesti Ouest | R73: =AVERAGE(Tableau9[[#This Row],[Indicateur de vulnerabilité Choc Conflit (%)]:[Indicateur de vulnerabilité Choc Catastrophe naturel (%)]]) -> 0.3 | S73: 0.4 | T73: 0.5 | U73: 0 | W73: Tibesti Ouest | X73: 0.4 | AA73: Tibesti Ouest | AB73: 0.5 | AE73: Tibesti Ouest | AF73: 0 | AI73: =IFERROR(INDEX('Indice sécheresse'!$AC$6:$AC$75,MATCH($Q73,'Indice sécheresse'!$E$6:$E$75,0)),"") -> 0.18671056 | AJ73: =IFERROR(INDEX('Indice sécheresse'!$AE$6:$AE$75,MATCH($Q73,'Indice sécheresse'!$E$6:$E$75,0)),"") -> Faible | AK73: =IFERROR(INDEX('Indice sécheresse'!$AF$6:$AF$75,MATCH($Q73,'Indice sécheresse'!$E$6:$E$75,0)),"") -> 0 | AL73: =IFERROR(INDEX('Indice sécheresse'!$AD$6:$AD$75,MATCH($Q73,'Indice sécheresse'!$E$6:$E$75,0)),"") -> 68
C74: Total général | D74: 3 | E74: 2.523918 | F74: 7 | Q74: Wadi Bissam | R74: =AVERAGE(Tableau9[[#This Row],[Indicateur de vulnerabilité Choc Conflit (%)]:[Indicateur de vulnerabilité Choc Catastrophe naturel (%)]]) -> 0.41666667 | S74: 0 | T74: 0.5 | U74: 0.75 | W74: Wadi Bissam | X74: 0 | AA74: Wadi Bissam | AB74: 0.5 | AE74: Wadi Bissam | AF74: 0.75 | AI74: =IFERROR(INDEX('Indice sécheresse'!$AC$6:$AC$75,MATCH($Q74,'Indice sécheresse'!$E$6:$E$75,0)),"") -> 0.59031747 | AJ74: =IFERROR(INDEX('Indice sécheresse'!$AE$6:$AE$75,MATCH($Q74,'Indice sécheresse'!$E$6:$E$75,0)),"") -> Élevé | AK74: =IFERROR(INDEX('Indice sécheresse'!$AF$6:$AF$75,MATCH($Q74,'Indice sécheresse'!$E$6:$E$75,0)),"") -> 1 | AL74: =IFERROR(INDEX('Indice sécheresse'!$AD$6:$AD$75,MATCH($Q74,'Indice sécheresse'!$E$6:$E$75,0)),"") -> 20
Q75: Wadi Hawar | R75: =AVERAGE(Tableau9[[#This Row],[Indicateur de vulnerabilité Choc Conflit (%)]:[Indicateur de vulnerabilité Choc Catastrophe naturel (%)]]) -> 0.55 | S75: 0.4 | T75: 0.5 | U75: 0.75 | W75: Wadi Hawar | X75: 0.4 | AA75: Wadi Hawar | AB75: 0.5 | AE75: Wadi Hawar | AF75: 0.75 | AI75: =IFERROR(INDEX('Indice sécheresse'!$AC$6:$AC$75,MATCH($Q75,'Indice sécheresse'!$E$6:$E$75,0)),"") -> 0.26666667 | AJ75: =IFERROR(INDEX('Indice sécheresse'!$AE$6:$AE$75,MATCH($Q75,'Indice sécheresse'!$E$6:$E$75,0)),"") -> Modéré | AK75: =IFERROR(INDEX('Indice sécheresse'!$AF$6:$AF$75,MATCH($Q75,'Indice sécheresse'!$E$6:$E$75,0)),"") -> 0 | AL75: =IFERROR(INDEX('Indice sécheresse'!$AD$6:$AD$75,MATCH($Q75,'Indice sécheresse'!$E$6:$E$75,0)),"") -> 59
Q76: Wayi | R76: =AVERAGE(Tableau9[[#This Row],[Indicateur de vulnerabilité Choc Conflit (%)]:[Indicateur de vulnerabilité Choc Catastrophe naturel (%)]]) -> 0.33333333 | S76: 0 | T76: 0.5 | U76: 0.5 | W76: Wayi | X76: 0 | AA76: Wayi | AB76: 0.5 | AE76: Wayi | AF76: 0.5 | AI76: =IFERROR(INDEX('Indice sécheresse'!$AC$6:$AC$75,MATCH($Q76,'Indice sécheresse'!$E$6:$E$75,0)),"") -> 0.80787306 | AJ76: =IFERROR(INDEX('Indice sécheresse'!$AE$6:$AE$75,MATCH($Q76,'Indice sécheresse'!$E$6:$E$75,0)),"") -> Très élevé | AK76: =IFERROR(INDEX('Indice sécheresse'!$AF$6:$AF$75,MATCH($Q76,'Indice sécheresse'!$E$6:$E$75,0)),"") -> 1 | AL76: =IFERROR(INDEX('Indice sécheresse'!$AD$6:$AD$75,MATCH($Q76,'Indice sécheresse'!$E$6:$E$75,0)),"") -> 3
W77: Total général | X77: 0.8 | AA77: Total général | AB77: 1 | AE77: Total général | AF77: 1

Sheet Indice sécheresse
A1: Indice de risque sécheresse par département — données secondaires 2024–2026 (CH/IPC, FAO ASI et biomasse GeoSahel détendanciés)
A2: Paramètres (modifiables) : | C2: Poids CH | D2: Poids ASI | E2: Poids biomasse | G2: CH : score 0 si Ph3+ ≤ (%) | H2: CH : score 1 si Ph3+ ≥ (%) | I2: ASI détend. : score 1 si ≥ (%) | J2: Biomasse détend. : score 1 si ≤ (% tendance) | K2: Seuil Indicateur_Sécheresse
C3: 0.4 | D3: 0.3 | E3: 0.3 | G3: 10 | H3: 40 | I3: 40 | J3: 50 | K3: 0.5
A4: Méthode, sources et limites : https://ocha-dap.github.io/ds-aa-tcd-drought/hnrp_2027_secheresse/ — construit le 2026-09-04 (OCHA CHD Data Science). Scores : 0 = pas de signal, 1 = signal maximal ; indice = moyenne pondérée des scores disponibles. Zone saharienne : ASI/biomasse non applicables (scores aléa = 0). ASI et biomasse sont corrigés de leur tendance 1999–2024 ; les valeurs brutes figurent à côté. Vide = non disponible.
A5: Province | B5: Département | C5: P-code (COD) | D5: P-code (fichier HNRP) | E5: Nom (fichier HNRP / Recap) | F5: Zone AA sécheresse (cadre CERF 2025) | G5: Zone saharienne | H5: Population (CH 2026) | I5: CH Ph3+ (%) courant mars–mai 2026 | J5: CH Ph3+ (%) projeté juin–août 2026 | K5: CH Ph3+ (pers.) projeté juin–août 2026 | L5: CH Ph3+ (%) max 2024–2026 (8 analyses) | M5: CH phase zone max 2024–2026 | N5: Score CH (0–1) | O5: ASI détendancié 2024 (% cultures stressées) | P5: ASI détendancié 2025 (%) | Q5: ASI détendancié 2026 à date (%) | R5: ASI détendancié max 2024–2026 | S5: Score ASI (0–1) | T5: ASI brut max 2024–2026 (avant correction) | U5: Tendance ASI 1999–2024 (points/an) | V5: Biomasse détendanciée 2024 (% de la tendance) | W5: Biomasse détendanciée 2025 (%) | X5: Biomasse détendanciée 2026 à date (%) | Y5: Biomasse détendanciée min 2024–2026 | Z5: Score biomasse (0–1) | AA5: Biomasse brute min 2024–2026 (% moy. 1999–2024) | AB5: Tendance biomasse 1999–2024 (% de la moy./an) | AC5: INDICE SÉCHERESSE (0–1) | AD5: Rang (1 = priorité max.) | AE5: Catégorie | AF5: Indicateur_Sécheresse (1 si indice ≥ seuil) | AG5: Notes
A6: Barh-El-Gazel | B6: Barh-El-Gazel Nord | C6: TCD1902 | D6: TCD1902 | E6: Barh El Gazel Nord | F6: Oui | G6: Non | H6: 112300 | I6: 10 | J6: 22 | K6: 24706 | L6: 30.000573 | M6: 3 | N6: =IF(ISNUMBER(L6),MIN(1,MAX(0,(L6-$G$3)/($H$3-$G$3))),"") -> 0.66668577 | O6: 14.213792 | P6: 15.350896 | Q6: 21.635999 | R6: =IF(COUNT(O6:Q6)=0,"",MAX(O6:Q6)) -> 21.635999 | S6: =IF(ISNUMBER(R6),MIN(1,MAX(0,R6/$I$3)),IF($G6="Oui",0,"")) -> 0.54089998 | T6: 5.148 | U6: -1.1371034 | V6: 166.87506 | W6: 116.38127 | X6: 35.226601 | Y6: =IF(COUNT(V6:X6)=0,"",MIN(V6:X6)) -> 35.226601 | Z6: =IF(ISNUMBER(Y6),MIN(1,MAX(0,(100-Y6)/(100-$J$3))),IF($G6="Oui",0,"")) -> 1 | AA6: 51.550616 | AB6: 3.1958636 | AC6: =IF(COUNT(N6,S6,Z6)=0,"",(IF(ISNUMBER(N6),N6*$C$3,0)+IF(ISNUMBER(S6),S6*$D$3,0)+IF(ISNUMBER(Z6),Z6*$E$3,0))/(IF(ISNUMBER(N6),$C$3,0)+IF(ISNUMBER(S6),$D$3,0)+IF(ISNUMBER(Z6),$E$3,0))) -> 0.7289443 | AD6: =IF(ISNUMBER(AC6),RANK(AC6,$AC$6:$AC$75),"") -> 5 | AE6: =IF(ISNUMBER(AC6),IF(AC6>=0.6,"Très élevé",IF(AC6>=0.4,"Élevé",IF(AC6>=0.2,"Modéré","Faible"))),"") -> Très élevé | AF6: =IF(ISNUMBER(AC6),IF(AC6>=$K$3,1,0),"") -> 1 | AG6: Orthographe fichier HNRP : Barh El Gazel Nord
A7: Barh-El-Gazel | B7: Barh-El-Gazel Ouest | C7: TCD1903 | D7: TCD1903 | E7: Barh El Gazel Ouest | F7: Oui | G7: Non | H7: 98112 | I7: 9 | J7: 15 | K7: 14716.8 | L7: 28.000131 | M7: 3 | N7: =IF(ISNUMBER(L7),MIN(1,MAX(0,(L7-$G$3)/($H$3-$G$3))),"") -> 0.60000437 | O7: 14.213792 | P7: 15.350896 | Q7: 21.635999 | R7: =IF(COUNT(O7:Q7)=0,"",MAX(O7:Q7)) -> 21.635999 | S7: =IF(ISNUMBER(R7),MIN(1,MAX(0,R7/$I$3)),IF($G7="Oui",0,"")) -> 0.54089998 | T7: 5.148 | U7: -1.1371034 | V7: 135.29515 | W7: 147.49767 | X7: 78.476803 | Y7: =IF(COUNT(V7:X7)=0,"",MIN(V7:X7)) -> 78.476803 | Z7: =IF(ISNUMBER(Y7),MIN(1,MAX(0,(100-Y7)/(100-$J$3))),IF($G7="Oui",0,"")) -> 0.43046393 | AA7: 86.930309 | AB7: 0.74289517 | AC7: =IF(COUNT(N7,S7,Z7)=0,"",(IF(ISNUMBER(N7),N7*$C$3,0)+IF(ISNUMBER(S7),S7*$D$3,0)+IF(ISNUMBER(Z7),Z7*$E$3,0))/(IF(ISNUMBER(N7),$C$3,0)+IF(ISNUMBER(S7),$D$3,0)+IF(ISNUMBER(Z7),$E$3,0))) -> 0.53141092 | AD7: =IF(ISNUMBER(AC7),RANK(AC7,$AC$6:$AC$75),"") -> 26 | AE7: =IF(ISNUMBER(AC7),IF(AC7>=0.6,"Très élevé",IF(AC7>=0.4,"Élevé",IF(AC7>=0.2,"Modéré","Faible"))),"") -> Élevé | AF7: =IF(ISNUMBER(AC7),IF(AC7>=$K$3,1,0),"") -> 1 | AG7: Orthographe fichier HNRP : Barh El Gazel Ouest
A8: Barh-El-Gazel | B8: Barh-El-Gazel Sud | C8: TCD1901 | D8: TCD1901 | E8: Barh El Gazel Sud | F8: Oui | G8: Non | H8: 256393 | I8: 14 | J8: 23 | K8: 58970.39 | L8: 32.000201 | M8: 3 | N8: =IF(ISNUMBER(L8),MIN(1,MAX(0,(L8-$G$3)/($H$3-$G$3))),"") -> 0.73334003 | O8: 14.213792 | P8: 15.350896 | Q8: 21.635999 | R8: =IF(COUNT(O8:Q8)=0,"",MAX(O8:Q8)) -> 21.635999 | S8: =IF(ISNUMBER(R8),MIN(1,MAX(0,R8/$I$3)),IF($G8="Oui",0,"")) -> 0.54089998 | T8: 5.148 | U8: -1.1371034 | V8: 145.50074 | W8: 142.40552 | X8: 63.952023 | Y8: =IF(COUNT(V8:X8)=0,"",MIN(V8:X8)) -> 63.952023 | Z8: =IF(ISNUMBER(Y8),MIN(1,MAX(0,(100-Y8)/(100-$J$3))),IF($G8="Oui",0,"")) -> 0.72095954 | AA8: 74.961995 | AB8: 1.1873094 | AC8: =IF(COUNT(N8,S8,Z8)=0,"",(IF(ISNUMBER(N8),N8*$C$3,0)+IF(ISNUMBER(S8),S8*$D$3,0)+IF(ISNUMBER(Z8),Z8*$E$3,0))/(IF(ISNUMBER(N8),$C$3,0)+IF(ISNUMBER(S8),$D$3,0)+IF(ISNUMBER(Z8),$E$3,0))) -> 0.67189387 | AD8: =IF(ISNUMBER(AC8),RANK(AC8,$AC$6:$AC$75),"") -> 12 | AE8: =IF(ISNUMBER(AC8),IF(AC8>=0.6,"Très élevé",IF(AC8>=0.4,"Élevé",IF(AC8>=0.2,"Modéré","Faible"))),"") -> Très élevé | AF8: =IF(ISNUMBER(AC8),IF(AC8>=$K$3,1,0),"") -> 1 | AG8: Orthographe fichier HNRP : Barh El Gazel Sud
A9: Batha | B9: Batha Est | C9: TCD0102 | D9: TCD0102 | E9: Batha Est | F9: Oui | G9: Non | H9: 327228 | I9: 21 | J9: 25 | K9: 81807 | L9: 25.999943 | M9: 3 | N9: =IF(ISNUMBER(L9),MIN(1,MAX(0,(L9-$G$3)/($H$3-$G$3))),"") -> 0.53333143 | O9: 9.84772 | P9: 10.631313 | Q9: 15.098623 | R9: =IF(COUNT(O9:Q9)=0,"",MAX(O9:Q9)) -> 15.098623 | S9: =IF(ISNUMBER(R9),MIN(1,MAX(0,R9/$I$3)),IF($G9="Oui",0,"")) -> 0.37746559 | T9: 3.7195685 | U9: -0.78476241 | V9: 134.25949 | W9: 140.04498 | X9: 45.684534 | Y9: =IF(COUNT(V9:X9)=0,"",MIN(V9:X9)) -> 45.684534 | Z9: =IF(ISNUMBER(Y9),MIN(1,MAX(0,(100-Y9)/(100-$J$3))),IF($G9="Oui",0,"")) -> 1 | AA9: 51.246914 | AB9: 0.83969858 | AC9: =IF(COUNT(N9,S9,Z9)=0,"",(IF(ISNUMBER(N9),N9*$C$3,0)+IF(ISNUMBER(S9),S9*$D$3,0)+IF(ISNUMBER(Z9),Z9*$E$3,0))/(IF(ISNUMBER(N9),$C$3,0)+IF(ISNUMBER(S9),$D$3,0)+IF(ISNUMBER(Z9),$E$3,0))) -> 0.62657225 | AD9: =IF(ISNUMBER(AC9),RANK(AC9,$AC$6:$AC$75),"") -> 17 | AE9: =IF(ISNUMBER(AC9),IF(AC9>=0.6,"Très élevé",IF(AC9>=0.4,"Élevé",IF(AC9>=0.2,"Modéré","Faible"))),"") -> Très élevé | AF9: =IF(ISNUMBER(AC9),IF(AC9>=$K$3,1,0),"") -> 1
A10: Batha | B10: Batha Ouest | C10: TCD0101 | D10: TCD0101 | E10: Batha Ouest | F10: Oui | G10: Non | H10: 358744 | I10: 25 | J10: 31 | K10: 111210.64 | L10: 31 | M10: 3 | N10: =IF(ISNUMBER(L10),MIN(1,MAX(0,(L10-$G$3)/($H$3-$G$3))),"") -> 0.7 | O10: 13.806048 | P10: 14.881064 | Q10: 19.800936 | R10: =IF(COUNT(O10:Q10)=0,"",MAX(O10:Q10)) -> 19.800936 | S10: =IF(ISNUMBER(R10),MIN(1,MAX(0,R10/$I$3)),IF($G10="Oui",0,"")) -> 0.4950234 | T10: 3.8175714 | U10: -1.102301 | V10: 125.59804 | W10: 129.81943 | X10: 45.841738 | Y10: =IF(COUNT(V10:X10)=0,"",MIN(V10:X10)) -> 45.841738 | Z10: =IF(ISNUMBER(Y10),MIN(1,MAX(0,(100-Y10)/(100-$J$3))),IF($G10="Oui",0,"")) -> 1 | AA10: 57.52867 | AB10: 1.7582128 | AC10: =IF(COUNT(N10,S10,Z10)=0,"",(IF(ISNUMBER(N10),N10*$C$3,0)+IF(ISNUMBER(S10),S10*$D$3,0)+IF(ISNUMBER(Z10),Z10*$E$3,0))/(IF(ISNUMBER(N10),$C$3,0)+IF(ISNUMBER(S10),$D$3,0)+IF(ISNUMBER(Z10),$E$3,0))) -> 0.72850702 | AD10: =IF(ISNUMBER(AC10),RANK(AC10,$AC$6:$AC$75),"") -> 6 | AE10: =IF(ISNUMBER(AC10),IF(AC10>=0.6,"Très élevé",IF(AC10>=0.4,"Élevé",IF(AC10>=0.2,"Modéré","Faible"))),"") -> Très élevé | AF10: =IF(ISNUMBER(AC10),IF(AC10>=$K$3,1,0),"") -> 1
A11: Batha | B11: Fitri | C11: TCD0103 | D11: TCD0103 | E11: Fitri | F11: Oui | G11: Non | H11: 200324 | I11: 21 | J11: 27 | K11: 54087.48 | L11: 27.999897 | M11: 3 | N11: =IF(ISNUMBER(L11),MIN(1,MAX(0,(L11-$G$3)/($H$3-$G$3))),"") -> 0.59999655 | O11: 13.806048 | P11: 14.881064 | Q11: 19.800936 | R11: =IF(COUNT(O11:Q11)=0,"",MAX(O11:Q11)) -> 19.800936 | S11: =IF(ISNUMBER(R11),MIN(1,MAX(0,R11/$I$3)),IF($G11="Oui",0,"")) -> 0.4950234 | T11: 3.8175714 | U11: -1.102301 | V11: 111.45209 | W11: 122.20642 | X11: 53.928331 | Y11: =IF(COUNT(V11:X11)=0,"",MIN(V11:X11)) -> 53.928331 | Z11: =IF(ISNUMBER(Y11),MIN(1,MAX(0,(100-Y11)/(100-$J$3))),IF($G11="Oui",0,"")) -> 0.92143337 | AA11: 62.797392 | AB11: 1.1342078 | AC11: =IF(COUNT(N11,S11,Z11)=0,"",(IF(ISNUMBER(N11),N11*$C$3,0)+IF(ISNUMBER(S11),S11*$D$3,0)+IF(ISNUMBER(Z11),Z11*$E$3,0))/(IF(ISNUMBER(N11),$C$3,0)+IF(ISNUMBER(S11),$D$3,0)+IF(ISNUMBER(Z11),$E$3,0))) -> 0.66493565 | AD11: =IF(ISNUMBER(AC11),RANK(AC11,$AC$6:$AC$75),"") -> 13 | AE11: =IF(ISNUMBER(AC11),IF(AC11>=0.6,"Très élevé",IF(AC11>=0.4,"Élevé",IF(AC11>=0.2,"Modéré","Faible"))),"") -> Très élevé | AF11: =IF(ISNUMBER(AC11),IF(AC11>=$K$3,1,0),"") -> 1
A12: Borkou | B12: Borkou | C12: TCD0201 | D12: TCD0201 | E12: Borkou | F12: Non | G12: Oui | H12: 124056 | I12: 5 | J12: 8 | K12: 9924.48 | L12: 22.999706 | M12: 3 | N12: =IF(ISNUMBER(L12),MIN(1,MAX(0,(L12-$G$3)/($H$3-$G$3))),"") -> 0.43332353 | R12: =IF(COUNT(O12:Q12)=0,"",MAX(O12:Q12)) | S12: =IF(ISNUMBER(R12),MIN(1,MAX(0,R12/$I$3)),IF($G12="Oui",0,"")) -> 0 | Y12: =IF(COUNT(V12:X12)=0,"",MIN(V12:X12)) | Z12: =IF(ISNUMBER(Y12),MIN(1,MAX(0,(100-Y12)/(100-$J$3))),IF($G12="Oui",0,"")) -> 0 | AC12: =IF(COUNT(N12,S12,Z12)=0,"",(IF(ISNUMBER(N12),N12*$C$3,0)+IF(ISNUMBER(S12),S12*$D$3,0)+IF(ISNUMBER(Z12),Z12*$E$3,0))/(IF(ISNUMBER(N12),$C$3,0)+IF(ISNUMBER(S12),$D$3,0)+IF(ISNUMBER(Z12),$E$3,0))) -> 0.17332941 | AD12: =IF(ISNUMBER(AC12),RANK(AC12,$AC$6:$AC$75),"") -> 69 | AE12: =IF(ISNUMBER(AC12),IF(AC12>=0.6,"Très élevé",IF(AC12>=0.4,"Élevé",IF(AC12>=0.2,"Modéré","Faible"))),"") -> Faible | AF12: =IF(ISNUMBER(AC12),IF(AC12>=$K$3,1,0),"") -> 0 | AG12: Zone saharienne : ASI et biomasse non applicables (scores aléa = 0)
A13: Borkou | B13: Borkou Yala | C13: TCD0202 | D13: TCD0202 | E13: Borkou Yala | F13: Non | G13: Oui | H13: 45750 | I13: 21 | J13: 26 | K13: 11895 | L13: 30.000906 | M13: 3 | N13: =IF(ISNUMBER(L13),MIN(1,MAX(0,(L13-$G$3)/($H$3-$G$3))),"") -> 0.66669685 | R13: =IF(COUNT(O13:Q13)=0,"",MAX(O13:Q13)) | S13: =IF(ISNUMBER(R13),MIN(1,MAX(0,R13/$I$3)),IF($G13="Oui",0,"")) -> 0 | Y13: =IF(COUNT(V13:X13)=0,"",MIN(V13:X13)) | Z13: =IF(ISNUMBER(Y13),MIN(1,MAX(0,(100-Y13)/(100-$J$3))),IF($G13="Oui",0,"")) -> 0 | AC13: =IF(COUNT(N13,S13,Z13)=0,"",(IF(ISNUMBER(N13),N13*$C$3,0)+IF(ISNUMBER(S13),S13*$D$3,0)+IF(ISNUMBER(Z13),Z13*$E$3,0))/(IF(ISNUMBER(N13),$C$3,0)+IF(ISNUMBER(S13),$D$3,0)+IF(ISNUMBER(Z13),$E$3,0))) -> 0.26667874 | AD13: =IF(ISNUMBER(AC13),RANK(AC13,$AC$6:$AC$75),"") -> 58 | AE13: =IF(ISNUMBER(AC13),IF(AC13>=0.6,"Très élevé",IF(AC13>=0.4,"Élevé",IF(AC13>=0.2,"Modéré","Faible"))),"") -> Modéré | AF13: =IF(ISNUMBER(AC13),IF(AC13>=$K$3,1,0),"") -> 0 | AG13: Zone saharienne : ASI et biomasse non applicables (scores aléa = 0)
A14: Chari-Baguirmi | B14: Baguirmi | C14: TCD0301 | D14: TCD0301 | E14: Baguirmi | F14: Non | G14: Non | H14: 380534 | I14: 8 | J14: 22 | K14: 83717.48 | L14: 25.999837 | M14: 3 | N14: =IF(ISNUMBER(L14),MIN(1,MAX(0,(L14-$G$3)/($H$3-$G$3))),"") -> 0.53332789 | O14: 11.228179 | P14: 11.995588 | Q14: 11.117443 | R14: =IF(COUNT(O14:Q14)=0,"",MAX(O14:Q14)) -> 11.995588 | S14: =IF(ISNUMBER(R14),MIN(1,MAX(0,R14/$I$3)),IF($G14="Oui",0,"")) -> 0.29988971 | T14: 2.7605556 | U14: -0.68407651 | V14: 104.68338 | W14: 123.97649 | X14: 104.84942 | Y14: =IF(COUNT(V14:X14)=0,"",MIN(V14:X14)) -> 104.68338 | Z14: =IF(ISNUMBER(Y14),MIN(1,MAX(0,(100-Y14)/(100-$J$3))),IF($G14="Oui",0,"")) -> 0 | AA14: 109.3013 | AB14: 0.35290605 | AC14: =IF(COUNT(N14,S14,Z14)=0,"",(IF(ISNUMBER(N14),N14*$C$3,0)+IF(ISNUMBER(S14),S14*$D$3,0)+IF(ISNUMBER(Z14),Z14*$E$3,0))/(IF(ISNUMBER(N14),$C$3,0)+IF(ISNUMBER(S14),$D$3,0)+IF(ISNUMBER(Z14),$E$3,0))) -> 0.30329807 | AD14: =IF(ISNUMBER(AC14),RANK(AC14,$AC$6:$AC$75),"") -> 56 | AE14: =IF(ISNUMBER(AC14),IF(AC14>=0.6,"Très élevé",IF(AC14>=0.4,"Élevé",IF(AC14>=0.2,"Modéré","Faible"))),"") -> Modéré | AF14: =IF(ISNUMBER(AC14),IF(AC14>=$K$3,1,0),"") -> 0
A15: Chari-Baguirmi | B15: Chari | C15: TCD0302 | D15: TCD0302 | E15: Chari | F15: Non | G15: Non | H15: 331873 | I15: 4 | J15: 7 | K15: 23231.11 | L15: 17.999988 | M15: 2 | N15: =IF(ISNUMBER(L15),MIN(1,MAX(0,(L15-$G$3)/($H$3-$G$3))),"") -> 0.26666625 | O15: 11.538392 | P15: 12.677213 | Q15: 15.269035 | R15: =IF(COUNT(O15:Q15)=0,"",MAX(O15:Q15)) -> 15.269035 | S15: =IF(ISNUMBER(R15),MIN(1,MAX(0,R15/$I$3)),IF($G15="Oui",0,"")) -> 0.38172587 | T15: 1.8845 | U15: -0.92307137 | V15: 107.133 | W15: 128.85523 | X15: 102.96361 | Y15: =IF(COUNT(V15:X15)=0,"",MIN(V15:X15)) -> 102.96361 | Z15: =IF(ISNUMBER(Y15),MIN(1,MAX(0,(100-Y15)/(100-$J$3))),IF($G15="Oui",0,"")) -> 0 | AA15: 108.12895 | AB15: 0.34597741 | AC15: =IF(COUNT(N15,S15,Z15)=0,"",(IF(ISNUMBER(N15),N15*$C$3,0)+IF(ISNUMBER(S15),S15*$D$3,0)+IF(ISNUMBER(Z15),Z15*$E$3,0))/(IF(ISNUMBER(N15),$C$3,0)+IF(ISNUMBER(S15),$D$3,0)+IF(ISNUMBER(Z15),$E$3,0))) -> 0.22118426 | AD15: =IF(ISNUMBER(AC15),RANK(AC15,$AC$6:$AC$75),"") -> 63 | AE15: =IF(ISNUMBER(AC15),IF(AC15>=0.6,"Très élevé",IF(AC15>=0.4,"Élevé",IF(AC15>=0.2,"Modéré","Faible"))),"") -> Modéré | AF15: =IF(ISNUMBER(AC15),IF(AC15>=$K$3,1,0),"") -> 0
A16: Chari-Baguirmi | B16: Loug-Chari | C16: TCD0303 | D16: TCD0303 | E16: Loug Chari | F16: Non | G16: Non | H16: 337132 | I16: 5 | J16: 8 | K16: 26970.56 | L16: 25.999908 | M16: 3 | N16: =IF(ISNUMBER(L16),MIN(1,MAX(0,(L16-$G$3)/($H$3-$G$3))),"") -> 0.53333026 | O16: 11.52219 | P16: 12.030262 | Q16: 11.58405 | R16: =IF(COUNT(O16:Q16)=0,"",MAX(O16:Q16)) -> 12.030262 | S16: =IF(ISNUMBER(R16),MIN(1,MAX(0,R16/$I$3)),IF($G16="Oui",0,"")) -> 0.30075655 | T16: 3.2942487 | U16: -0.65823532 | V16: 93.286617 | W16: 105.48232 | X16: 100.71277 | Y16: =IF(COUNT(V16:X16)=0,"",MIN(V16:X16)) -> 93.286617 | Z16: =IF(ISNUMBER(Y16),MIN(1,MAX(0,(100-Y16)/(100-$J$3))),IF($G16="Oui",0,"")) -> 0.13426766 | AA16: 94.37078 | AB16: 0.092974775 | AC16: =IF(COUNT(N16,S16,Z16)=0,"",(IF(ISNUMBER(N16),N16*$C$3,0)+IF(ISNUMBER(S16),S16*$D$3,0)+IF(ISNUMBER(Z16),Z16*$E$3,0))/(IF(ISNUMBER(N16),$C$3,0)+IF(ISNUMBER(S16),$D$3,0)+IF(ISNUMBER(Z16),$E$3,0))) -> 0.34383937 | AD16: =IF(ISNUMBER(AC16),RANK(AC16,$AC$6:$AC$75),"") -> 51 | AE16: =IF(ISNUMBER(AC16),IF(AC16>=0.6,"Très élevé",IF(AC16>=0.4,"Élevé",IF(AC16>=0.2,"Modéré","Faible"))),"") -> Modéré | AF16: =IF(ISNUMBER(AC16),IF(AC16>=$K$3,1,0),"") -> 0 | AG16: Orthographe fichier HNRP : Loug Chari
A17: Ennedi Est | B17: Am-Djarass | C17: TCD2001 | D17: TCD2001 | E17: Amdjarass | F17: Non | G17: Oui | H17: 144089 | I17: 21 | J17: 27 | K17: 38904.03 | L17: 31.000112 | M17: 3 | N17: =IF(ISNUMBER(L17),MIN(1,MAX(0,(L17-$G$3)/($H$3-$G$3))),"") -> 0.70000372 | R17: =IF(COUNT(O17:Q17)=0,"",MAX(O17:Q17)) | S17: =IF(ISNUMBER(R17),MIN(1,MAX(0,R17/$I$3)),IF($G17="Oui",0,"")) -> 0 | Y17: =IF(COUNT(V17:X17)=0,"",MIN(V17:X17)) | Z17: =IF(ISNUMBER(Y17),MIN(1,MAX(0,(100-Y17)/(100-$J$3))),IF($G17="Oui",0,"")) -> 0 | AC17: =IF(COUNT(N17,S17,Z17)=0,"",(IF(ISNUMBER(N17),N17*$C$3,0)+IF(ISNUMBER(S17),S17*$D$3,0)+IF(ISNUMBER(Z17),Z17*$E$3,0))/(IF(ISNUMBER(N17),$C$3,0)+IF(ISNUMBER(S17),$D$3,0)+IF(ISNUMBER(Z17),$E$3,0))) -> 0.28000149 | AD17: =IF(ISNUMBER(AC17),RANK(AC17,$AC$6:$AC$75),"") -> 57 | AE17: =IF(ISNUMBER(AC17),IF(AC17>=0.6,"Très élevé",IF(AC17>=0.4,"Élevé",IF(AC17>=0.2,"Modéré","Faible"))),"") -> Modéré | AF17: =IF(ISNUMBER(AC17),IF(AC17>=$K$3,1,0),"") -> 0 | AG17: Zone saharienne : ASI et biomasse non applicables (scores aléa = 0) ; Orthographe fichier HNRP : Amdjarass
A18: Ennedi Est | B18: Wadi Hawar | C18: TCD2002 | D18: TCD2002 | E18: Wadi Hawar | F18: Non | G18: Oui | H18: 50608 | I18: 23 | J18: 30 | K18: 15182.4 | L18: 30 | M18: 3 | N18: =IF(ISNUMBER(L18),MIN(1,MAX(0,(L18-$G$3)/($H$3-$G$3))),"") -> 0.66666667 | R18: =IF(COUNT(O18:Q18)=0,"",MAX(O18:Q18)) | S18: =IF(ISNUMBER(R18),MIN(1,MAX(0,R18/$I$3)),IF($G18="Oui",0,"")) -> 0 | Y18: =IF(COUNT(V18:X18)=0,"",MIN(V18:X18)) | Z18: =IF(ISNUMBER(Y18),MIN(1,MAX(0,(100-Y18)/(100-$J$3))),IF($G18="Oui",0,"")) -> 0 | AC18: =IF(COUNT(N18,S18,Z18)=0,"",(IF(ISNUMBER(N18),N18*$C$3,0)+IF(ISNUMBER(S18),S18*$D$3,0)+IF(ISNUMBER(Z18),Z18*$E$3,0))/(IF(ISNUMBER(N18),$C$3,0)+IF(ISNUMBER(S18),$D$3,0)+IF(ISNUMBER(Z18),$E$3,0))) -> 0.26666667 | AD18: =IF(ISNUMBER(AC18),RANK(AC18,$AC$6:$AC$75),"") -> 59 | AE18: =IF(ISNUMBER(AC18),IF(AC18>=0.6,"Très élevé",IF(AC18>=0.4,"Élevé",IF(AC18>=0.2,"Modéré","Faible"))),"") -> Modéré | AF18: =IF(ISNUMBER(AC18),IF(AC18>=$K$3,1,0),"") -> 0 | AG18: Zone saharienne : ASI et biomasse non applicables (scores aléa = 0)
A19: Ennedi Ouest | B19: Fada | C19: TCD2301 | D19: TCD2301 | E19: Fada | F19: Non | G19: Oui | H19: 71316 | I19: 9 | J19: 13 | K19: 9271.08 | L19: 26.000261 | M19: 3 | N19: =IF(ISNUMBER(L19),MIN(1,MAX(0,(L19-$G$3)/($H$3-$G$3))),"") -> 0.53334205 | R19: =IF(COUNT(O19:Q19)=0,"",MAX(O19:Q19)) | S19: =IF(ISNUMBER(R19),MIN(1,MAX(0,R19/$I$3)),IF($G19="Oui",0,"")) -> 0 | Y19: =IF(COUNT(V19:X19)=0,"",MIN(V19:X19)) | Z19: =IF(ISNUMBER(Y19),MIN(1,MAX(0,(100-Y19)/(100-$J$3))),IF($G19="Oui",0,"")) -> 0 | AC19: =IF(COUNT(N19,S19,Z19)=0,"",(IF(ISNUMBER(N19),N19*$C$3,0)+IF(ISNUMBER(S19),S19*$D$3,0)+IF(ISNUMBER(Z19),Z19*$E$3,0))/(IF(ISNUMBER(N19),$C$3,0)+IF(ISNUMBER(S19),$D$3,0)+IF(ISNUMBER(Z19),$E$3,0))) -> 0.21333682 | AD19: =IF(ISNUMBER(AC19),RANK(AC19,$AC$6:$AC$75),"") -> 65 | AE19: =IF(ISNUMBER(AC19),IF(AC19>=0.6,"Très élevé",IF(AC19>=0.4,"Élevé",IF(AC19>=0.2,"Modéré","Faible"))),"") -> Modéré | AF19: =IF(ISNUMBER(AC19),IF(AC19>=$K$3,1,0),"") -> 0 | AG19: Zone saharienne : ASI et biomasse non applicables (scores aléa = 0)
A20: Ennedi Ouest | B20: Mourtcha | C20: TCD2303 | D20: TCD2302 | E20: Mourtcha | F20: Non | G20: Oui | H20: 38672 | I20: 16 | J20: 23 | K20: 8894.56 | L20: 27.001982 | M20: 3 | N20: =IF(ISNUMBER(L20),MIN(1,MAX(0,(L20-$G$3)/($H$3-$G$3))),"") -> 0.56673273 | R20: =IF(COUNT(O20:Q20)=0,"",MAX(O20:Q20)) | S20: =IF(ISNUMBER(R20),MIN(1,MAX(0,R20/$I$3)),IF($G20="Oui",0,"")) -> 0 | Y20: =IF(COUNT(V20:X20)=0,"",MIN(V20:X20)) | Z20: =IF(ISNUMBER(Y20),MIN(1,MAX(0,(100-Y20)/(100-$J$3))),IF($G20="Oui",0,"")) -> 0 | AC20: =IF(COUNT(N20,S20,Z20)=0,"",(IF(ISNUMBER(N20),N20*$C$3,0)+IF(ISNUMBER(S20),S20*$D$3,0)+IF(ISNUMBER(Z20),Z20*$E$3,0))/(IF(ISNUMBER(N20),$C$3,0)+IF(ISNUMBER(S20),$D$3,0)+IF(ISNUMBER(Z20),$E$3,0))) -> 0.22669309 | AD20: =IF(ISNUMBER(AC20),RANK(AC20,$AC$6:$AC$75),"") -> 62 | AE20: =IF(ISNUMBER(AC20),IF(AC20>=0.6,"Très élevé",IF(AC20>=0.4,"Élevé",IF(AC20>=0.2,"Modéré","Faible"))),"") -> Modéré | AF20: =IF(ISNUMBER(AC20),IF(AC20>=$K$3,1,0),"") -> 0 | AG20: Zone saharienne : ASI et biomasse non applicables (scores aléa = 0) ; P-code fichier HNRP (TCD2302) ≠ COD (TCD2303)
A21: Guéra | B21: Abtouyour | C21: TCD0402 | D21: TCD0402 | E21: Abtouyour | F21: Non | G21: Non | H21: 303803 | I21: 21 | J21: 25 | K21: 75950.75 | L21: 25 | M21: 3 | N21: =IF(ISNUMBER(L21),MIN(1,MAX(0,(L21-$G$3)/($H$3-$G$3))),"") -> 0.5 | O21: 8.2935076 | P21: 8.7704904 | Q21: 9.3284733 | R21: =IF(COUNT(O21:Q21)=0,"",MAX(O21:Q21)) -> 9.3284733 | S21: =IF(ISNUMBER(R21),MIN(1,MAX(0,R21/$I$3)),IF($G21="Oui",0,"")) -> 0.23321183 | T21: 0.50622222 | U21: -0.62298283 | V21: 96.362104 | W21: 113.4475 | X21: 88.889361 | Y21: =IF(COUNT(V21:X21)=0,"",MIN(V21:X21)) -> 88.889361 | Z21: =IF(ISNUMBER(Y21),MIN(1,MAX(0,(100-Y21)/(100-$J$3))),IF($G21="Oui",0,"")) -> 0.22221278 | AA21: 94.386292 | AB21: 0.42648372 | AC21: =IF(COUNT(N21,S21,Z21)=0,"",(IF(ISNUMBER(N21),N21*$C$3,0)+IF(ISNUMBER(S21),S21*$D$3,0)+IF(ISNUMBER(Z21),Z21*$E$3,0))/(IF(ISNUMBER(N21),$C$3,0)+IF(ISNUMBER(S21),$D$3,0)+IF(ISNUMBER(Z21),$E$3,0))) -> 0.33662738 | AD21: =IF(ISNUMBER(AC21),RANK(AC21,$AC$6:$AC$75),"") -> 54 | AE21: =IF(ISNUMBER(AC21),IF(AC21>=0.6,"Très élevé",IF(AC21>=0.4,"Élevé",IF(AC21>=0.2,"Modéré","Faible"))),"") -> Modéré | AF21: =IF(ISNUMBER(AC21),IF(AC21>=$K$3,1,0),"") -> 0
A22: Guéra | B22: Barh-Signaka | C22: TCD0403 | D22: TCD0403 | E22: Bahar Signaka | F22: Non | G22: Non | H22: 187929 | I22: 16 | J22: 25 | K22: 46982.25 | L22: 25 | M22: 3 | N22: =IF(ISNUMBER(L22),MIN(1,MAX(0,(L22-$G$3)/($H$3-$G$3))),"") -> 0.5 | O22: 8.2935076 | P22: 8.7704904 | Q22: 9.3284733 | R22: =IF(COUNT(O22:Q22)=0,"",MAX(O22:Q22)) -> 9.3284733 | S22: =IF(ISNUMBER(R22),MIN(1,MAX(0,R22/$I$3)),IF($G22="Oui",0,"")) -> 0.23321183 | T22: 0.50622222 | U22: -0.62298283 | V22: 91.716654 | W22: 103.07986 | X22: 99.648519 | Y22: =IF(COUNT(V22:X22)=0,"",MIN(V22:X22)) -> 91.716654 | Z22: =IF(ISNUMBER(Y22),MIN(1,MAX(0,(100-Y22)/(100-$J$3))),IF($G22="Oui",0,"")) -> 0.16566692 | AA22: 91.183352 | AB22: -0.04651741 | AC22: =IF(COUNT(N22,S22,Z22)=0,"",(IF(ISNUMBER(N22),N22*$C$3,0)+IF(ISNUMBER(S22),S22*$D$3,0)+IF(ISNUMBER(Z22),Z22*$E$3,0))/(IF(ISNUMBER(N22),$C$3,0)+IF(ISNUMBER(S22),$D$3,0)+IF(ISNUMBER(Z22),$E$3,0))) -> 0.31966362 | AD22: =IF(ISNUMBER(AC22),RANK(AC22,$AC$6:$AC$75),"") -> 55 | AE22: =IF(ISNUMBER(AC22),IF(AC22>=0.6,"Très élevé",IF(AC22>=0.4,"Élevé",IF(AC22>=0.2,"Modéré","Faible"))),"") -> Modéré | AF22: =IF(ISNUMBER(AC22),IF(AC22>=$K$3,1,0),"") -> 0 | AG22: Orthographe fichier HNRP : Bahar Signaka
A23: Guéra | B23: Guéra | C23: TCD0401 | D23: TCD0401 | E23: Guéra | F23: Non | G23: Non | H23: 312901 | I23: 5 | J23: 21 | K23: 65709.21 | L23: 23.999808 | M23: 3 | N23: =IF(ISNUMBER(L23),MIN(1,MAX(0,(L23-$G$3)/($H$3-$G$3))),"") -> 0.46666027 | O23: 8.2935076 | P23: 8.7704904 | Q23: 9.3284733 | R23: =IF(COUNT(O23:Q23)=0,"",MAX(O23:Q23)) -> 9.3284733 | S23: =IF(ISNUMBER(R23),MIN(1,MAX(0,R23/$I$3)),IF($G23="Oui",0,"")) -> 0.23321183 | T23: 0.50622222 | U23: -0.62298283 | V23: 92.498545 | W23: 115.3026 | X23: 85.802514 | Y23: =IF(COUNT(V23:X23)=0,"",MIN(V23:X23)) -> 85.802514 | Z23: =IF(ISNUMBER(Y23),MIN(1,MAX(0,(100-Y23)/(100-$J$3))),IF($G23="Oui",0,"")) -> 0.28394973 | AA23: 83.239152 | AB23: -0.20603544 | AC23: =IF(COUNT(N23,S23,Z23)=0,"",(IF(ISNUMBER(N23),N23*$C$3,0)+IF(ISNUMBER(S23),S23*$D$3,0)+IF(ISNUMBER(Z23),Z23*$E$3,0))/(IF(ISNUMBER(N23),$C$3,0)+IF(ISNUMBER(S23),$D$3,0)+IF(ISNUMBER(Z23),$E$3,0))) -> 0.34181258 | AD23: =IF(ISNUMBER(AC23),RANK(AC23,$AC$6:$AC$75),"") -> 52 | AE23: =IF(ISNUMBER(AC23),IF(AC23>=0.6,"Très élevé",IF(AC23>=0.4,"Élevé",IF(AC23>=0.2,"Modéré","Faible"))),"") -> Modéré | AF23: =IF(ISNUMBER(AC23),IF(AC23>=$K$3,1,0),"") -> 0
A24: Guéra | B24: Mangalmé | C24: TCD0404 | D24: TCD0404 | E24: Mangalmé | F24: Non | G24: Non | H24: 172207 | I24: 13 | J24: 22 | K24: 37885.54 | L24: 27.999552 | M24: 3 | N24: =IF(ISNUMBER(L24),MIN(1,MAX(0,(L24-$G$3)/($H$3-$G$3))),"") -> 0.59998505 | O24: 8.2935076 | P24: 8.7704904 | Q24: 9.3284733 | R24: =IF(COUNT(O24:Q24)=0,"",MAX(O24:Q24)) -> 9.3284733 | S24: =IF(ISNUMBER(R24),MIN(1,MAX(0,R24/$I$3)),IF($G24="Oui",0,"")) -> 0.23321183 | T24: 0.50622222 | U24: -0.62298283 | V24: 105.9499 | W24: 127.90628 | X24: 78.938823 | Y24: =IF(COUNT(V24:X24)=0,"",MIN(V24:X24)) -> 78.938823 | Z24: =IF(ISNUMBER(Y24),MIN(1,MAX(0,(100-Y24)/(100-$J$3))),IF($G24="Oui",0,"")) -> 0.42122353 | AA24: 75.294839 | AB24: -0.31835955 | AC24: =IF(COUNT(N24,S24,Z24)=0,"",(IF(ISNUMBER(N24),N24*$C$3,0)+IF(ISNUMBER(S24),S24*$D$3,0)+IF(ISNUMBER(Z24),Z24*$E$3,0))/(IF(ISNUMBER(N24),$C$3,0)+IF(ISNUMBER(S24),$D$3,0)+IF(ISNUMBER(Z24),$E$3,0))) -> 0.43632463 | AD24: =IF(ISNUMBER(AC24),RANK(AC24,$AC$6:$AC$75),"") -> 42 | AE24: =IF(ISNUMBER(AC24),IF(AC24>=0.6,"Très élevé",IF(AC24>=0.4,"Élevé",IF(AC24>=0.2,"Modéré","Faible"))),"") -> Élevé | AF24: =IF(ISNUMBER(AC24),IF(AC24>=$K$3,1,0),"") -> 0
A25: Hadjer-Lamis | B25: Dababa | C25: TCD0502 | D25: TCD0502 | E25: Dababa | F25: Non | G25: Non | H25: 414499 | I25: 6 | J25: 10 | K25: 41449.9 | L25: 30.999977 | M25: 3 | N25: =IF(ISNUMBER(L25),MIN(1,MAX(0,(L25-$G$3)/($H$3-$G$3))),"") -> 0.69999922 | O25: 12.81544 | P25: 13.99998 | Q25: 15.981146 | R25: =IF(COUNT(O25:Q25)=0,"",MAX(O25:Q25)) -> 15.981146 | S25: =IF(ISNUMBER(R25),MIN(1,MAX(0,R25/$I$3)),IF($G25="Oui",0,"")) -> 0.39952864 | T25: 1.20325 | U25: -1.0191652 | V25: 118.48693 | W25: 128.19997 | X25: 81.633092 | Y25: =IF(COUNT(V25:X25)=0,"",MIN(V25:X25)) -> 81.633092 | Z25: =IF(ISNUMBER(Y25),MIN(1,MAX(0,(100-Y25)/(100-$J$3))),IF($G25="Oui",0,"")) -> 0.36733816 | AA25: 89.957197 | AB25: 0.70323958 | AC25: =IF(COUNT(N25,S25,Z25)=0,"",(IF(ISNUMBER(N25),N25*$C$3,0)+IF(ISNUMBER(S25),S25*$D$3,0)+IF(ISNUMBER(Z25),Z25*$E$3,0))/(IF(ISNUMBER(N25),$C$3,0)+IF(ISNUMBER(S25),$D$3,0)+IF(ISNUMBER(Z25),$E$3,0))) -> 0.51005973 | AD25: =IF(ISNUMBER(AC25),RANK(AC25,$AC$6:$AC$75),"") -> 29 | AE25: =IF(ISNUMBER(AC25),IF(AC25>=0.6,"Très élevé",IF(AC25>=0.4,"Élevé",IF(AC25>=0.2,"Modéré","Faible"))),"") -> Élevé | AF25: =IF(ISNUMBER(AC25),IF(AC25>=$K$3,1,0),"") -> 1
A26: Hadjer-Lamis | B26: Dagana | C26: TCD0501 | D26: TCD0501 | E26: Dagana | F26: Non | G26: Non | H26: 341753 | I26: 9 | J26: 14 | K26: 47845.42 | L26: 26.999973 | M26: 3 | N26: =IF(ISNUMBER(L26),MIN(1,MAX(0,(L26-$G$3)/($H$3-$G$3))),"") -> 0.56666576 | O26: 11.538392 | P26: 12.677213 | Q26: 15.269035 | R26: =IF(COUNT(O26:Q26)=0,"",MAX(O26:Q26)) -> 15.269035 | S26: =IF(ISNUMBER(R26),MIN(1,MAX(0,R26/$I$3)),IF($G26="Oui",0,"")) -> 0.38172587 | T26: 1.8845 | U26: -0.92307137 | V26: 119.01117 | W26: 141.02866 | X26: 80.571164 | Y26: =IF(COUNT(V26:X26)=0,"",MIN(V26:X26)) -> 80.571164 | Z26: =IF(ISNUMBER(Y26),MIN(1,MAX(0,(100-Y26)/(100-$J$3))),IF($G26="Oui",0,"")) -> 0.38857673 | AA26: 91.555003 | AB26: 0.94017035 | AC26: =IF(COUNT(N26,S26,Z26)=0,"",(IF(ISNUMBER(N26),N26*$C$3,0)+IF(ISNUMBER(S26),S26*$D$3,0)+IF(ISNUMBER(Z26),Z26*$E$3,0))/(IF(ISNUMBER(N26),$C$3,0)+IF(ISNUMBER(S26),$D$3,0)+IF(ISNUMBER(Z26),$E$3,0))) -> 0.45775708 | AD26: =IF(ISNUMBER(AC26),RANK(AC26,$AC$6:$AC$75),"") -> 37 | AE26: =IF(ISNUMBER(AC26),IF(AC26>=0.6,"Très élevé",IF(AC26>=0.4,"Élevé",IF(AC26>=0.2,"Modéré","Faible"))),"") -> Élevé | AF26: =IF(ISNUMBER(AC26),IF(AC26>=$K$3,1,0),"") -> 0
A27: Hadjer-Lamis | B27: Haraze-Al-Biar | C27: TCD0503 | D27: TCD0503 | E27: Haraze Al Biar | F27: Non | G27: Non | H27: 272299 | I27: 11 | J27: 15 | K27: 40844.85 | L27: 21.999882 | M27: 3 | N27: =IF(ISNUMBER(L27),MIN(1,MAX(0,(L27-$G$3)/($H$3-$G$3))),"") -> 0.39999606 | O27: 11.538392 | P27: 12.677213 | Q27: 15.269035 | R27: =IF(COUNT(O27:Q27)=0,"",MAX(O27:Q27)) -> 15.269035 | S27: =IF(ISNUMBER(R27),MIN(1,MAX(0,R27/$I$3)),IF($G27="Oui",0,"")) -> 0.38172587 | T27: 1.8845 | U27: -0.92307137 | V27: 130.50561 | W27: 145.85027 | X27: 84.525706 | Y27: =IF(COUNT(V27:X27)=0,"",MIN(V27:X27)) -> 84.525706 | Z27: =IF(ISNUMBER(Y27),MIN(1,MAX(0,(100-Y27)/(100-$J$3))),IF($G27="Oui",0,"")) -> 0.30948587 | AA27: 85.61571 | AB27: 0.08893471 | AC27: =IF(COUNT(N27,S27,Z27)=0,"",(IF(ISNUMBER(N27),N27*$C$3,0)+IF(ISNUMBER(S27),S27*$D$3,0)+IF(ISNUMBER(Z27),Z27*$E$3,0))/(IF(ISNUMBER(N27),$C$3,0)+IF(ISNUMBER(S27),$D$3,0)+IF(ISNUMBER(Z27),$E$3,0))) -> 0.36736195 | AD27: =IF(ISNUMBER(AC27),RANK(AC27,$AC$6:$AC$75),"") -> 48 | AE27: =IF(ISNUMBER(AC27),IF(AC27>=0.6,"Très élevé",IF(AC27>=0.4,"Élevé",IF(AC27>=0.2,"Modéré","Faible"))),"") -> Modéré | AF27: =IF(ISNUMBER(AC27),IF(AC27>=$K$3,1,0),"") -> 0 | AG27: Orthographe fichier HNRP : Haraze Al Biar
A28: Kanem | B28: Kanem | C28: TCD0601 | D28: TCD0601 | E28: Kanem | F28: Oui | G28: Non | H28: 277934 | I28: 22 | J28: 28 | K28: 77821.52 | L28: 42.000008 | M28: 3 | N28: =IF(ISNUMBER(L28),MIN(1,MAX(0,(L28-$G$3)/($H$3-$G$3))),"") -> 1 | O28: 12.940848 | P28: 14.280116 | Q28: 17.365098 | R28: =IF(COUNT(O28:Q28)=0,"",MAX(O28:Q28)) -> 17.365098 | S28: =IF(ISNUMBER(R28),MIN(1,MAX(0,R28/$I$3)),IF($G28="Oui",0,"")) -> 0.43412745 | T28: 2.3537143 | U28: -1.0352678 | V28: 129.4357 | W28: 78.620225 | X28: 25.506963 | Y28: =IF(COUNT(V28:X28)=0,"",MIN(V28:X28)) -> 25.506963 | Z28: =IF(ISNUMBER(Y28),MIN(1,MAX(0,(100-Y28)/(100-$J$3))),IF($G28="Oui",0,"")) -> 1 | AA28: 35.883285 | AB28: 2.8055414 | AC28: =IF(COUNT(N28,S28,Z28)=0,"",(IF(ISNUMBER(N28),N28*$C$3,0)+IF(ISNUMBER(S28),S28*$D$3,0)+IF(ISNUMBER(Z28),Z28*$E$3,0))/(IF(ISNUMBER(N28),$C$3,0)+IF(ISNUMBER(S28),$D$3,0)+IF(ISNUMBER(Z28),$E$3,0))) -> 0.83023823 | AD28: =IF(ISNUMBER(AC28),RANK(AC28,$AC$6:$AC$75),"") -> 1 | AE28: =IF(ISNUMBER(AC28),IF(AC28>=0.6,"Très élevé",IF(AC28>=0.4,"Élevé",IF(AC28>=0.2,"Modéré","Faible"))),"") -> Très élevé | AF28: =IF(ISNUMBER(AC28),IF(AC28>=$K$3,1,0),"") -> 1
A29: Kanem | B29: Nord Kanem | C29: TCD0602 | D29: TCD0602 | E29: Nord Kanem | F29: Oui | G29: Non | H29: 165054 | I29: 25 | J29: 30 | K29: 49516.2 | L29: 39.00052 | M29: 3 | N29: =IF(ISNUMBER(L29),MIN(1,MAX(0,(L29-$G$3)/($H$3-$G$3))),"") -> 0.966684 | O29: 13.053634 | P29: 14.374989 | Q29: 17.743509 | R29: =IF(COUNT(O29:Q29)=0,"",MAX(O29:Q29)) -> 17.743509 | S29: =IF(ISNUMBER(R29),MIN(1,MAX(0,R29/$I$3)),IF($G29="Oui",0,"")) -> 0.44358773 | T29: 2.6012942 | U29: -1.0442907 | V29: 252.53932 | W29: 107.8475 | X29: 15.784635 | Y29: =IF(COUNT(V29:X29)=0,"",MIN(V29:X29)) -> 15.784635 | Z29: =IF(ISNUMBER(Y29),MIN(1,MAX(0,(100-Y29)/(100-$J$3))),IF($G29="Oui",0,"")) -> 1 | AA29: 30.42409 | AB29: 6.3962053 | AC29: =IF(COUNT(N29,S29,Z29)=0,"",(IF(ISNUMBER(N29),N29*$C$3,0)+IF(ISNUMBER(S29),S29*$D$3,0)+IF(ISNUMBER(Z29),Z29*$E$3,0))/(IF(ISNUMBER(N29),$C$3,0)+IF(ISNUMBER(S29),$D$3,0)+IF(ISNUMBER(Z29),$E$3,0))) -> 0.81974992 | AD29: =IF(ISNUMBER(AC29),RANK(AC29,$AC$6:$AC$75),"") -> 2 | AE29: =IF(ISNUMBER(AC29),IF(AC29>=0.6,"Très élevé",IF(AC29>=0.4,"Élevé",IF(AC29>=0.2,"Modéré","Faible"))),"") -> Très élevé | AF29: =IF(ISNUMBER(AC29),IF(AC29>=$K$3,1,0),"") -> 1
A30: Kanem | B30: Wadi Bissam | C30: TCD0603 | D30: TCD0603 | E30: Wadi Bissam | F30: Oui | G30: Non | H30: 161935 | I30: 22 | J30: 28 | K30: 45341.8 | L30: 29.00032 | M30: 3 | N30: =IF(ISNUMBER(L30),MIN(1,MAX(0,(L30-$G$3)/($H$3-$G$3))),"") -> 0.63334399 | O30: 12.940848 | P30: 14.280116 | Q30: 17.365098 | R30: =IF(COUNT(O30:Q30)=0,"",MAX(O30:Q30)) -> 17.365098 | S30: =IF(ISNUMBER(R30),MIN(1,MAX(0,R30/$I$3)),IF($G30="Oui",0,"")) -> 0.43412745 | T30: 2.3537143 | U30: -1.0352678 | V30: 147.60891 | W30: 124.73892 | X30: 65.543061 | Y30: =IF(COUNT(V30:X30)=0,"",MIN(V30:X30)) -> 65.543061 | Z30: =IF(ISNUMBER(Y30),MIN(1,MAX(0,(100-Y30)/(100-$J$3))),IF($G30="Oui",0,"")) -> 0.68913878 | AA30: 71.143505 | AB30: 0.58928815 | AC30: =IF(COUNT(N30,S30,Z30)=0,"",(IF(ISNUMBER(N30),N30*$C$3,0)+IF(ISNUMBER(S30),S30*$D$3,0)+IF(ISNUMBER(Z30),Z30*$E$3,0))/(IF(ISNUMBER(N30),$C$3,0)+IF(ISNUMBER(S30),$D$3,0)+IF(ISNUMBER(Z30),$E$3,0))) -> 0.59031747 | AD30: =IF(ISNUMBER(AC30),RANK(AC30,$AC$6:$AC$75),"") -> 20 | AE30: =IF(ISNUMBER(AC30),IF(AC30>=0.6,"Très élevé",IF(AC30>=0.4,"Élevé",IF(AC30>=0.2,"Modéré","Faible"))),"") -> Élevé | AF30: =IF(ISNUMBER(AC30),IF(AC30>=$K$3,1,0),"") -> 1
A31: Lac | B31: Fouli | C31: TCD0704 | D31: TCD0704 | E31: Fouli | F31: Oui | G31: Non | H31: 93022.35 | I31: 22 | J31: 27 | K31: 25116.035 | L31: 32.000539 | M31: 3 | N31: =IF(ISNUMBER(L31),MIN(1,MAX(0,(L31-$G$3)/($H$3-$G$3))),"") -> 0.73335129 | O31: 2.744113 | P31: 3.7307221 | Q31: 8.3416644 | R31: =IF(COUNT(O31:Q31)=0,"",MAX(O31:Q31)) -> 8.3416644 | S31: =IF(ISNUMBER(R31),MIN(1,MAX(0,R31/$I$3)),IF($G31="Oui",0,"")) -> 0.20854161 | T31: 5.9951111 | U31: -0.16183126 | V31: 116.10148 | W31: 83.394086 | X31: 40.960906 | Y31: =IF(COUNT(V31:X31)=0,"",MIN(V31:X31)) -> 40.960906 | Z31: =IF(ISNUMBER(Y31),MIN(1,MAX(0,(100-Y31)/(100-$J$3))),IF($G31="Oui",0,"")) -> 1 | AA31: 46.486675 | AB31: 0.93036877 | AC31: =IF(COUNT(N31,S31,Z31)=0,"",(IF(ISNUMBER(N31),N31*$C$3,0)+IF(ISNUMBER(S31),S31*$D$3,0)+IF(ISNUMBER(Z31),Z31*$E$3,0))/(IF(ISNUMBER(N31),$C$3,0)+IF(ISNUMBER(S31),$D$3,0)+IF(ISNUMBER(Z31),$E$3,0))) -> 0.655903 | AD31: =IF(ISNUMBER(AC31),RANK(AC31,$AC$6:$AC$75),"") -> 14 | AE31: =IF(ISNUMBER(AC31),IF(AC31>=0.6,"Très élevé",IF(AC31>=0.4,"Élevé",IF(AC31>=0.2,"Modéré","Faible"))),"") -> Très élevé | AF31: =IF(ISNUMBER(AC31),IF(AC31>=$K$3,1,0),"") -> 1
A32: Lac | B32: Kaya | C32: TCD0703 | D32: TCD0703 | E32: Kaya | F32: Oui | G32: Non | H32: 80889 | I32: 30 | J32: 35 | K32: 28311.15 | L32: 35 | M32: 3 | N32: =IF(ISNUMBER(L32),MIN(1,MAX(0,(L32-$G$3)/($H$3-$G$3))),"") -> 0.83333333 | O32: 2.744113 | P32: 3.7307221 | Q32: 8.3416644 | R32: =IF(COUNT(O32:Q32)=0,"",MAX(O32:Q32)) -> 8.3416644 | S32: =IF(ISNUMBER(R32),MIN(1,MAX(0,R32/$I$3)),IF($G32="Oui",0,"")) -> 0.20854161 | T32: 5.9951111 | U32: -0.16183126 | V32: 123.30945 | W32: 101.72061 | X32: 48.880874 | Y32: =IF(COUNT(V32:X32)=0,"",MIN(V32:X32)) -> 48.880874 | Z32: =IF(ISNUMBER(Y32),MIN(1,MAX(0,(100-Y32)/(100-$J$3))),IF($G32="Oui",0,"")) -> 1 | AA32: 54.284245 | AB32: 0.76235602 | AC32: =IF(COUNT(N32,S32,Z32)=0,"",(IF(ISNUMBER(N32),N32*$C$3,0)+IF(ISNUMBER(S32),S32*$D$3,0)+IF(ISNUMBER(Z32),Z32*$E$3,0))/(IF(ISNUMBER(N32),$C$3,0)+IF(ISNUMBER(S32),$D$3,0)+IF(ISNUMBER(Z32),$E$3,0))) -> 0.69589582 | AD32: =IF(ISNUMBER(AC32),RANK(AC32,$AC$6:$AC$75),"") -> 9 | AE32: =IF(ISNUMBER(AC32),IF(AC32>=0.6,"Très élevé",IF(AC32>=0.4,"Élevé",IF(AC32>=0.2,"Modéré","Faible"))),"") -> Très élevé | AF32: =IF(ISNUMBER(AC32),IF(AC32>=$K$3,1,0),"") -> 1
A33: Lac | B33: Mamdi | C33: TCD0701 | D33: TCD0701 | E33: Mamdi | F33: Oui | G33: Non | H33: 230533.65 | I33: 13 | J33: 22 | K33: 50717.403 | L33: 43.000196 | M33: 3 | N33: =IF(ISNUMBER(L33),MIN(1,MAX(0,(L33-$G$3)/($H$3-$G$3))),"") -> 1 | O33: 3.3404432 | P33: 4.3476766 | Q33: 8.869377 | R33: =IF(COUNT(O33:Q33)=0,"",MAX(O33:Q33)) -> 8.869377 | S33: =IF(ISNUMBER(R33),MIN(1,MAX(0,R33/$I$3)),IF($G33="Oui",0,"")) -> 0.22173443 | T33: 5.7821533 | U33: -0.21291198 | V33: 95.803009 | W33: 100.06616 | X33: 56.767991 | Y33: =IF(COUNT(V33:X33)=0,"",MIN(V33:X33)) -> 56.767991 | Z33: =IF(ISNUMBER(Y33),MIN(1,MAX(0,(100-Y33)/(100-$J$3))),IF($G33="Oui",0,"")) -> 0.86464018 | AA33: 58.544635 | AB33: 0.21583847 | AC33: =IF(COUNT(N33,S33,Z33)=0,"",(IF(ISNUMBER(N33),N33*$C$3,0)+IF(ISNUMBER(S33),S33*$D$3,0)+IF(ISNUMBER(Z33),Z33*$E$3,0))/(IF(ISNUMBER(N33),$C$3,0)+IF(ISNUMBER(S33),$D$3,0)+IF(ISNUMBER(Z33),$E$3,0))) -> 0.72591238 | AD33: =IF(ISNUMBER(AC33),RANK(AC33,$AC$6:$AC$75),"") -> 7 | AE33: =IF(ISNUMBER(AC33),IF(AC33>=0.6,"Très élevé",IF(AC33>=0.4,"Élevé",IF(AC33>=0.2,"Modéré","Faible"))),"") -> Très élevé | AF33: =IF(ISNUMBER(AC33),IF(AC33>=$K$3,1,0),"") -> 1
A34: Lac | B34: Wayi | C34: TCD0702 | D34: TCD0702 | E34: Wayi | F34: Oui | G34: Non | H34: 382657 | I34: 13 | J34: 22 | K34: 84184.54 | L34: 43.99991 | M34: 3 | N34: =IF(ISNUMBER(L34),MIN(1,MAX(0,(L34-$G$3)/($H$3-$G$3))),"") -> 1 | O34: 11.993257 | P34: 13.24671 | Q34: 16.228075 | R34: =IF(COUNT(O34:Q34)=0,"",MAX(O34:Q34)) -> 16.228075 | S34: =IF(ISNUMBER(R34),MIN(1,MAX(0,R34/$I$3)),IF($G34="Oui",0,"")) -> 0.40570187 | T34: 2.3534749 | U34: -0.95686897 | V34: 119.8711 | W34: 107.443 | X34: 52.306251 | Y34: =IF(COUNT(V34:X34)=0,"",MIN(V34:X34)) -> 52.306251 | Z34: =IF(ISNUMBER(Y34),MIN(1,MAX(0,(100-Y34)/(100-$J$3))),IF($G34="Oui",0,"")) -> 0.95387498 | AA34: 65.699103 | AB34: 1.7658404 | AC34: =IF(COUNT(N34,S34,Z34)=0,"",(IF(ISNUMBER(N34),N34*$C$3,0)+IF(ISNUMBER(S34),S34*$D$3,0)+IF(ISNUMBER(Z34),Z34*$E$3,0))/(IF(ISNUMBER(N34),$C$3,0)+IF(ISNUMBER(S34),$D$3,0)+IF(ISNUMBER(Z34),$E$3,0))) -> 0.80787306 | AD34: =IF(ISNUMBER(AC34),RANK(AC34,$AC$6:$AC$75),"") -> 3 | AE34: =IF(ISNUMBER(AC34),IF(AC34>=0.6,"Très élevé",IF(AC34>=0.4,"Élevé",IF(AC34>=0.2,"Modéré","Faible"))),"") -> Très élevé | AF34: =IF(ISNUMBER(AC34),IF(AC34>=$K$3,1,0),"") -> 1
A35: Logone Occidental | B35: Dodjé | C35: TCD0802 | D35: TCD0802 | E35: Djode | F35: Non | G35: Non | H35: 192991 | I35: 15 | J35: 21 | K35: 40528.11 | L35: 21 | M35: 3 | N35: =IF(ISNUMBER(L35),MIN(1,MAX(0,(L35-$G$3)/($H$3-$G$3))),"") -> 0.36666667 | O35: 25.620165 | P35: 72.24204 | Q35: 69.523249 | R35: =IF(COUNT(O35:Q35)=0,"",MAX(O35:Q35)) -> 72.24204 | S35: =IF(ISNUMBER(R35),MIN(1,MAX(0,R35/$I$3)),IF($G35="Oui",0,"")) -> 1 | T35: 68.864222 | U35: -0.25020874 | V35: 96.512862 | W35: 94.502855 | X35: 101.22618 | Y35: =IF(COUNT(V35:X35)=0,"",MIN(V35:X35)) -> 94.502855 | Z35: =IF(ISNUMBER(Y35),MIN(1,MAX(0,(100-Y35)/(100-$J$3))),IF($G35="Oui",0,"")) -> 0.1099429 | AA35: 78.564502 | AB35: -1.2492943 | AC35: =IF(COUNT(N35,S35,Z35)=0,"",(IF(ISNUMBER(N35),N35*$C$3,0)+IF(ISNUMBER(S35),S35*$D$3,0)+IF(ISNUMBER(Z35),Z35*$E$3,0))/(IF(ISNUMBER(N35),$C$3,0)+IF(ISNUMBER(S35),$D$3,0)+IF(ISNUMBER(Z35),$E$3,0))) -> 0.47964954 | AD35: =IF(ISNUMBER(AC35),RANK(AC35,$AC$6:$AC$75),"") -> 33 | AE35: =IF(ISNUMBER(AC35),IF(AC35>=0.6,"Très élevé",IF(AC35>=0.4,"Élevé",IF(AC35>=0.2,"Modéré","Faible"))),"") -> Élevé | AF35: =IF(ISNUMBER(AC35),IF(AC35>=$K$3,1,0),"") -> 0 | AG35: Orthographe fichier HNRP : Djode
A36: Logone Occidental | B36: Guéni | C36: TCD0803 | D36: TCD0803 | E36: Gueni | F36: Non | G36: Non | H36: 166957 | I36: 11 | J36: 21 | K36: 35060.97 | L36: 21 | M36: 3 | N36: =IF(ISNUMBER(L36),MIN(1,MAX(0,(L36-$G$3)/($H$3-$G$3))),"") -> 0.36666667 | O36: 25.620165 | P36: 72.24204 | Q36: 69.523249 | R36: =IF(COUNT(O36:Q36)=0,"",MAX(O36:Q36)) -> 72.24204 | S36: =IF(ISNUMBER(R36),MIN(1,MAX(0,R36/$I$3)),IF($G36="Oui",0,"")) -> 1 | T36: 68.864222 | U36: -0.25020874 | V36: 100.85272 | W36: 95.997495 | X36: 95.953326 | Y36: =IF(COUNT(V36:X36)=0,"",MIN(V36:X36)) -> 95.953326 | Z36: =IF(ISNUMBER(Y36),MIN(1,MAX(0,(100-Y36)/(100-$J$3))),IF($G36="Oui",0,"")) -> 0.080933476 | AA36: 77.763734 | AB36: -1.3073592 | AC36: =IF(COUNT(N36,S36,Z36)=0,"",(IF(ISNUMBER(N36),N36*$C$3,0)+IF(ISNUMBER(S36),S36*$D$3,0)+IF(ISNUMBER(Z36),Z36*$E$3,0))/(IF(ISNUMBER(N36),$C$3,0)+IF(ISNUMBER(S36),$D$3,0)+IF(ISNUMBER(Z36),$E$3,0))) -> 0.47094671 | AD36: =IF(ISNUMBER(AC36),RANK(AC36,$AC$6:$AC$75),"") -> 34 | AE36: =IF(ISNUMBER(AC36),IF(AC36>=0.6,"Très élevé",IF(AC36>=0.4,"Élevé",IF(AC36>=0.2,"Modéré","Faible"))),"") -> Élevé | AF36: =IF(ISNUMBER(AC36),IF(AC36>=$K$3,1,0),"") -> 0 | AG36: Orthographe fichier HNRP : Gueni
A37: Logone Occidental | B37: Lac Wey | C37: TCD0801 | D37: TCD0801 | E37: Lac wey | F37: Non | G37: Non | H37: 601492 | I37: 12 | J37: 23 | K37: 138343.16 | L37: 23 | M37: 3 | N37: =IF(ISNUMBER(L37),MIN(1,MAX(0,(L37-$G$3)/($H$3-$G$3))),"") -> 0.43333333 | O37: 25.620165 | P37: 72.24204 | Q37: 69.523249 | R37: =IF(COUNT(O37:Q37)=0,"",MAX(O37:Q37)) -> 72.24204 | S37: =IF(ISNUMBER(R37),MIN(1,MAX(0,R37/$I$3)),IF($G37="Oui",0,"")) -> 1 | T37: 68.864222 | U37: -0.25020874 | V37: 90.520934 | W37: 93.877486 | X37: 92.967214 | Y37: =IF(COUNT(V37:X37)=0,"",MIN(V37:X37)) -> 90.520934 | Z37: =IF(ISNUMBER(Y37),MIN(1,MAX(0,(100-Y37)/(100-$J$3))),IF($G37="Oui",0,"")) -> 0.18958133 | AA37: 71.822161 | AB37: -1.5685955 | AC37: =IF(COUNT(N37,S37,Z37)=0,"",(IF(ISNUMBER(N37),N37*$C$3,0)+IF(ISNUMBER(S37),S37*$D$3,0)+IF(ISNUMBER(Z37),Z37*$E$3,0))/(IF(ISNUMBER(N37),$C$3,0)+IF(ISNUMBER(S37),$D$3,0)+IF(ISNUMBER(Z37),$E$3,0))) -> 0.53020773 | AD37: =IF(ISNUMBER(AC37),RANK(AC37,$AC$6:$AC$75),"") -> 27 | AE37: =IF(ISNUMBER(AC37),IF(AC37>=0.6,"Très élevé",IF(AC37>=0.4,"Élevé",IF(AC37>=0.2,"Modéré","Faible"))),"") -> Élevé | AF37: =IF(ISNUMBER(AC37),IF(AC37>=$K$3,1,0),"") -> 1 | AG37: Orthographe fichier HNRP : Lac wey
A38: Logone Occidental | B38: Ngourkosso | C38: TCD0804 | D38: TCD0804 | E38: Ngourkosso | F38: Non | G38: Non | H38: 288814 | I38: 25 | J38: 34 | K38: 98196.76 | L38: 34 | M38: 3 | N38: =IF(ISNUMBER(L38),MIN(1,MAX(0,(L38-$G$3)/($H$3-$G$3))),"") -> 0.8 | O38: 25.620165 | P38: 72.24204 | Q38: 69.523249 | R38: =IF(COUNT(O38:Q38)=0,"",MAX(O38:Q38)) -> 72.24204 | S38: =IF(ISNUMBER(R38),MIN(1,MAX(0,R38/$I$3)),IF($G38="Oui",0,"")) -> 1 | T38: 68.864222 | U38: -0.25020874 | V38: 97.807815 | W38: 90.343797 | X38: 92.391596 | Y38: =IF(COUNT(V38:X38)=0,"",MIN(V38:X38)) -> 90.343797 | Z38: =IF(ISNUMBER(Y38),MIN(1,MAX(0,(100-Y38)/(100-$J$3))),IF($G38="Oui",0,"")) -> 0.19312406 | AA38: 79.084118 | AB38: -0.92319595 | AC38: =IF(COUNT(N38,S38,Z38)=0,"",(IF(ISNUMBER(N38),N38*$C$3,0)+IF(ISNUMBER(S38),S38*$D$3,0)+IF(ISNUMBER(Z38),Z38*$E$3,0))/(IF(ISNUMBER(N38),$C$3,0)+IF(ISNUMBER(S38),$D$3,0)+IF(ISNUMBER(Z38),$E$3,0))) -> 0.67793722 | AD38: =IF(ISNUMBER(AC38),RANK(AC38,$AC$6:$AC$75),"") -> 11 | AE38: =IF(ISNUMBER(AC38),IF(AC38>=0.6,"Très élevé",IF(AC38>=0.4,"Élevé",IF(AC38>=0.2,"Modéré","Faible"))),"") -> Très élevé | AF38: =IF(ISNUMBER(AC38),IF(AC38>=$K$3,1,0),"") -> 1
A39: Logone Oriental | B39: Kouh Est | C39: TCD0902 | D39: TCD0902 | E39: Kouh Est | F39: Non | G39: Non | H39: 183897 | I39: 2 | J39: 7 | K39: 12872.79 | L39: 14.999883 | M39: 2 | N39: =IF(ISNUMBER(L39),MIN(1,MAX(0,(L39-$G$3)/($H$3-$G$3))),"") -> 0.16666278 | O39: 33.16706 | P39: 50.35683 | Q39: 60.557266 | R39: =IF(COUNT(O39:Q39)=0,"",MAX(O39:Q39)) -> 60.557266 | S39: =IF(ISNUMBER(R39),MIN(1,MAX(0,R39/$I$3)),IF($G39="Oui",0,"")) -> 1 | T39: 59.505333 | U39: -0.072547047 | V39: 92.972734 | W39: 109.2408 | X39: 110.65735 | Y39: =IF(COUNT(V39:X39)=0,"",MIN(V39:X39)) -> 92.972734 | Z39: =IF(ISNUMBER(Y39),MIN(1,MAX(0,(100-Y39)/(100-$J$3))),IF($G39="Oui",0,"")) -> 0.14054531 | AA39: 76.934232 | AB39: -1.3800607 | AC39: =IF(COUNT(N39,S39,Z39)=0,"",(IF(ISNUMBER(N39),N39*$C$3,0)+IF(ISNUMBER(S39),S39*$D$3,0)+IF(ISNUMBER(Z39),Z39*$E$3,0))/(IF(ISNUMBER(N39),$C$3,0)+IF(ISNUMBER(S39),$D$3,0)+IF(ISNUMBER(Z39),$E$3,0))) -> 0.40882871 | AD39: =IF(ISNUMBER(AC39),RANK(AC39,$AC$6:$AC$75),"") -> 44 | AE39: =IF(ISNUMBER(AC39),IF(AC39>=0.6,"Très élevé",IF(AC39>=0.4,"Élevé",IF(AC39>=0.2,"Modéré","Faible"))),"") -> Élevé | AF39: =IF(ISNUMBER(AC39),IF(AC39>=$K$3,1,0),"") -> 0
A40: Logone Oriental | B40: Kouh Ouest | C40: TCD0903 | D40: TCD0903 | E40: Kouh Ouest | F40: Non | G40: Non | H40: 89844 | I40: 2 | J40: 7 | K40: 6289.08 | L40: 21.000634 | M40: 3 | N40: =IF(ISNUMBER(L40),MIN(1,MAX(0,(L40-$G$3)/($H$3-$G$3))),"") -> 0.3666878 | O40: 33.16706 | P40: 50.35683 | Q40: 60.557266 | R40: =IF(COUNT(O40:Q40)=0,"",MAX(O40:Q40)) -> 60.557266 | S40: =IF(ISNUMBER(R40),MIN(1,MAX(0,R40/$I$3)),IF($G40="Oui",0,"")) -> 1 | T40: 59.505333 | U40: -0.072547047 | V40: 89.566941 | W40: 107.53588 | X40: 108.28981 | Y40: =IF(COUNT(V40:X40)=0,"",MIN(V40:X40)) -> 89.566941 | Z40: =IF(ISNUMBER(Y40),MIN(1,MAX(0,(100-Y40)/(100-$J$3))),IF($G40="Oui",0,"")) -> 0.20866118 | AA40: 79.801474 | AB40: -0.87223854 | AC40: =IF(COUNT(N40,S40,Z40)=0,"",(IF(ISNUMBER(N40),N40*$C$3,0)+IF(ISNUMBER(S40),S40*$D$3,0)+IF(ISNUMBER(Z40),Z40*$E$3,0))/(IF(ISNUMBER(N40),$C$3,0)+IF(ISNUMBER(S40),$D$3,0)+IF(ISNUMBER(Z40),$E$3,0))) -> 0.50927347 | AD40: =IF(ISNUMBER(AC40),RANK(AC40,$AC$6:$AC$75),"") -> 30 | AE40: =IF(ISNUMBER(AC40),IF(AC40>=0.6,"Très élevé",IF(AC40>=0.4,"Élevé",IF(AC40>=0.2,"Modéré","Faible"))),"") -> Élevé | AF40: =IF(ISNUMBER(AC40),IF(AC40>=$K$3,1,0),"") -> 1
...

Sheet Listes departements inclus
B1: Portée analyse données Historique | D1: Portée analyse données clusters
A3: Portée de l'analyse provisoire | B3: departement inclus | C3: departement en attente | D3: departement hors portée | G3: Portée donnéé Historique | H3: departemnet inclus | I3: departemnet exclus | M3: Portée données cluster | N3: departemnet inclus | O3: departemnet exclus
B4: =COUNTIF(E6:E75,"Oui") -> 37 | C4: =COUNTIF(E6:E75,"Pending") -> 8 | D4: =COUNTIF(E6:E75,"Non") -> 25 | H4: =COUNTIF(K6:K75,"Oui") -> 37 | I4: =COUNTIF(K6:K75,"Non") -> 33 | N4: =COUNTIF(Q6:Q75,"Oui") -> 26 | O4: =COUNTIF(Q6:Q75,"Non") -> 44
A5: ADM1_FR | B5: ADM1_PCODE | C5: ADM2_FR | D5: ADM2_PCODE | E5: Portée | G5: ADM1_FR | H5: ADM1_PCODE | I5: ADM2_FR | J5: ADM2_PCODE | K5: Portée | M5: ADM1_FR | N5: ADM1_PCODE | O5: ADM2_FR | P5: ADM2_PCODE | Q5: Portée
A6: SILA | B6: TCD21 | C6: Abdi | D6: TCD2102 | E6: Oui | G6: BATHA | H6: TCD01 | I6: Batha Ouest | J6: TCD0101 | K6: Oui | M6: BATHA | N6: TCD01 | O6: Batha Ouest | P6: TCD0101 | Q6: Non
